Workbook
Name Datenschnitt_RedBull: #N/A
Name Zeitachse_DimSendungsdatum: #N/A

Sheet VERW
A1: Status KOOPERATION: | D1: Status VERTRAG:
A2: erobern | D2: gültiger Vertrag
A3: ausbauen | D3: in Verhandlung
A4: halten | D4: kein Vertrag
A5: verringern
A6: distanzieren

Sheet ALT
H4: gültiger Vertrag | I4: kein Vertrag | J4: kein Vertrag | K4: kein Vertrag | L4: kein Vertrag | M4: kein Vertrag | N4: kein Vertrag | O4: kein Vertrag | P4: kein Vertrag | Q4: kein Vertrag | R4: kein Vertrag | S4: kein Vertrag | T4: kein Vertrag | U4: kein Vertrag | V4: kein Vertrag | W4: kein Vertrag | X4: kein Vertrag | Y4: kein Vertrag | Z4: kein Vertrag | AA4: kein Vertrag | AB4: kein Vertrag | AC4: kein Vertrag | AD4: kein Vertrag | AE4: kein Vertrag | AF4: kein Vertrag | AG4: kein Vertrag | AH4: kein Vertrag | AI4: kein Vertrag | AJ4: kein Vertrag | AK4: kein Vertrag | AL4: kein Vertrag | AM4: kein Vertrag | AN4: kein Vertrag | AO4: kein Vertrag | AP4: kein Vertrag | AQ4: kein Vertrag | AR4: kein Vertrag | AS4: kein Vertrag | AT4: kein Vertrag
H5: Kerry Logistics | I5: Rodair | J5: Total Logistics | K5: Mallory | L5: Fracht USA | M5: Lynden | N5: Unitrans | O5: BTX | P5: Landstar | Q5: Delfino | R5: Modaltrade | S5: Transcargo | T5: National Air Cargo | U5: Morrison Express | V5: Beweship /NTG | W5: BBA | X5: Debeaux | Y5: Cargobay AG | Z5: Balnak | AA5: Borusan | AB5: Partex Aeromarine | AC5: Weida Freight | AD5: Parisi | AE5: TCI | AF5: Able Logistics | AG5: Modern Freight | AH5: Skybridge | AI5: Jeena | AJ5: Indev | AK5: Yudhanusa | AL5: Bar Baran Iran | AM5: Damaco | AN5: Everstar | AO5: FDI | AP5: Northline | AQ5: Fliway | AR5: Prima Egypt | AS5: EFL Expolanca | AT5: NEU
H7: halten | T7: verringern | U7: ausbauen | AC7: ausbauen | AI7: ausbauen | AS7: distanzieren | AT7: erobern
B9: NORTH AMERICA | D9: Canada | F9: erobern | H9: 1 | I9: 2 | J9: 2
D10: USA | F10: ausbauen | H10: 1 | K10: 2 | L10: 2 | M10: 2 | N10: 2 | O10: 2 | P10: 2
B11: SOUTH AMERICA | D11: Argentina | F11: halten | Q11: 2
D12: Brazil | F12: erobern | H12: 1 | P12: 2
D13: Chile | F13: erobern | H13: 1 | R13: 2
D14: Mexico | F14: erobern | H14: 1
D15: Uruguay | F15: erobern | H15: 1 | S15: 2
B16: EUROPE | D16: Germany | F16: erobern | T16: 2 | U16: 1
D17: Finland | F17: erobern | V17: 1
D18: France | F18: erobern | W18: 2 | X18: 2 | AF18: 3
D19: Sweitzerland | F19: erobern | Y19: 1
D20: Italy | F20: erobern | H20: 1
D21: Turkey | F21: erobern | Z21: 2 | AA21: 1
B22: ASIA | D22: Bangladesh | F22: erobern | AB22: 1
D23: China | F23: ausbauen | H23: 1 | AC23: 2 | AD23: 2 | AE23: 3
D24: Emirates | F24: erobern | AF24: 3 | AG24: 3 | AH24: 3 | AS24: 3
D25: India | F25: ausbauen | H25: 2 | AI25: 1 | AJ25: 3
D26: Indonesia | F26: erobern | H26: 1 | AK26: 2
D27: Iran | F27: erobern | AL27: 1
D28: Japan | F28: erobern | H28: 1
D29: Qatar | F29: erobern | AM29: 1
D30: South Korea | F30: erobern | H30: 1
D31: Taiwan | F31: erobern | H31: 1
D32: Vietnam | F32: erobern | AN32: 2 | AO32: 2
D33: Australia | F33: erobern | H33: 1 | AP33: 2
D34: New Zealand | F34: erobern | AQ34: 1
D35: Egypt | F35: erobern | AR35: 1
D36: South Africa | F36: erobern | AS36: 3 | AT36: 1

Sheet OCEAN
J4: in Verhandlung | L4: gültiger Vertrag | M4: gültiger Vertrag | N4: in Verhandlung | P4: gültiger Vertrag | Q4: gültiger Vertrag | R4: kein Vertrag | U4: gültiger Vertrag | V4: in Verhandlung | W4: kein Vertrag | Y4: gültiger Vertrag | Z4: gültiger Vertrag | AB4: in Verhandlung | AE4: gültiger Vertrag | AF4: gültiger Vertrag | AI4: gültiger Vertrag | AN4: gültiger Vertrag | AQ4: gültiger Vertrag | AR4: in Verhandlung | AU4: in Verhandlung
J5: Kerry Logistics | L5: Mallory | M5: Unitrans | N5: Rush Cargo | O5: Delfino | P5: Transcargo | Q5: BBA | R5: Debeaux | S5: Balnak | T5: Borusan | U5: Weida Freight | V5: Able Logistics (Kerry) | W5: Modern Freight | X5: Skybridge | Y5: Jeena | Z5: Yudhanusa | AB5: FDI (Kerry) | AC5: Northline | AD5: Fliway | AE5: Marin | AF5: Prima Egypt | AG5: EFL Expolanca | AI5: Nexus | AJ5: Damaco | AK5: Fracht USA | AL5: Total Logistics | AM5: Lynden | AN5: BTX | AO5: Landstar | AP5: Morrison Express | AQ5: Beweship /NTG | AR5: Cargobay AG | AS5: Partex Aeromarine | AT5: TCI | AU5: Kerry Indev | AV5: Parisi | AW5: Rodair | AX5: Modaltrade | AY5: National Air Cargo | AZ5: Bar Baran Iran | BA5: Everstar
J7: ausbauen | L7: ausbauen | M7: ausbauen | N7: halten | O7: halten | P7: halten | Q7: halten | R7: halten | S7: halten | T7: halten | U7: ausbauen | V7: ausbauen | W7: halten | X7: halten | Y7: halten | Z7: halten | AB7: ausbauen | AC7: halten | AD7: halten | AF7: halten | AG7: halten | AI7: halten | AJ7: halten | AU7: ausbauen | AV7: verringern | AW7: distanzieren | AX7: distanzieren | AY7: distanzieren | AZ7: distanzieren | BA7: distanzieren
G8: Import | H8: Export
A9: CA | B9: North America | C9: Canada | E9: halten | G9: =IFERROR(VLOOKUP(A9,DWH!$A$12:$B$1048576,2,FALSE),"") -> 6840979.8 | H9: =IFERROR(VLOOKUP(A9,DWH!$D$12:$E$1048576,2,FALSE),"") -> 34433.01 | J9: 1
A10: US | C10: USA | E10: halten | G10: =IFERROR(VLOOKUP(A10,DWH!$A$12:$B$1048576,2,FALSE),"") -> 10479363 | H10: =IFERROR(VLOOKUP(A10,DWH!$D$12:$E$1048576,2,FALSE),"") -> 82496.39 | J10: 1 | L10: 1 | M10: 1
A11: AR | B11: South America | C11: Argentina | E11: halten | G11: =IFERROR(VLOOKUP(A11,DWH!$A$12:$B$1048576,2,FALSE),"") -> 571972.45 | H11: =IFERROR(VLOOKUP(A11,DWH!$D$12:$E$1048576,2,FALSE),"") -> 123514.75 | N11: 1 | O11: 2
A12: BR | C12: Brazil | E12: halten | G12: =IFERROR(VLOOKUP(A12,DWH!$A$12:$B$1048576,2,FALSE),"") -> 5105540.7 | H12: =IFERROR(VLOOKUP(A12,DWH!$D$12:$E$1048576,2,FALSE),"") -> 4958.02 | J12: 1
A13: CL | C13: Chile | E13: halten | G13: =IFERROR(VLOOKUP(A13,DWH!$A$12:$B$1048576,2,FALSE),"") -> 1575445.5 | H13: =IFERROR(VLOOKUP(A13,DWH!$D$12:$E$1048576,2,FALSE),"") -> 63078.91 | J13: 1 | AI13: 3
A14: MX | C14: Mexico | E14: halten | G14: =IFERROR(VLOOKUP(A14,DWH!$A$12:$B$1048576,2,FALSE),"") -> 265477.17 | H14: =IFERROR(VLOOKUP(A14,DWH!$D$12:$E$1048576,2,FALSE),"") -> 10263 | J14: 1
A15: UY | C15: Uruguay | E15: halten | G15: =IFERROR(VLOOKUP(A15,DWH!$A$12:$B$1048576,2,FALSE),"") -> 78071.88 | H15: =IFERROR(VLOOKUP(A15,DWH!$D$12:$E$1048576,2,FALSE),"") -> 0 | J15: 1 | P15: 2
A16: DE | B16: Europe | C16: Germany | E16: halten | G16: =IFERROR(VLOOKUP(A16,DWH!$A$12:$B$1048576,2,FALSE),"") -> 823708.3 | H16: =IFERROR(VLOOKUP(A16,DWH!$D$12:$E$1048576,2,FALSE),"") -> 1186821.8 | J16: 1
A17: FR | C17: France | E17: halten | G17: =IFERROR(VLOOKUP(A17,DWH!$A$12:$B$1048576,2,FALSE),"") -> 68035 | H17: =IFERROR(VLOOKUP(A17,DWH!$D$12:$E$1048576,2,FALSE),"") -> 12804.87 | Q17: 1 | R17: 2
A18: CH | C18: Switzerland | E18: halten | G18: =IFERROR(VLOOKUP(A18,DWH!$A$12:$B$1048576,2,FALSE),"") -> 231791.54 | H18: =IFERROR(VLOOKUP(A18,DWH!$D$12:$E$1048576,2,FALSE),"") -> 18690780 | J18: 1
A19: IT | C19: Italy | E19: halten | G19: =IFERROR(VLOOKUP(A19,DWH!$A$12:$B$1048576,2,FALSE),"") -> 0 | H19: =IFERROR(VLOOKUP(A19,DWH!$D$12:$E$1048576,2,FALSE),"") -> 0 | J19: 1
A20: TR | C20: Turkey | E20: halten | G20: =IFERROR(VLOOKUP(A20,DWH!$A$12:$B$1048576,2,FALSE),"") -> 106228.1 | H20: =IFERROR(VLOOKUP(A20,DWH!$D$12:$E$1048576,2,FALSE),"") -> 27873.16 | S20: 2 | T20: 1
A21: BD | B21: Asia | C21: Bangladesh | E21: halten | G21: =IFERROR(VLOOKUP(A21,DWH!$A$12:$B$1048576,2,FALSE),"") -> 0 | H21: =IFERROR(VLOOKUP(A21,DWH!$D$12:$E$1048576,2,FALSE),"") -> 0 | J21: 1
A22: CN | C22: China | E22: ausbauen | G22: =IFERROR(VLOOKUP(A22,DWH!$A$12:$B$1048576,2,FALSE),"") -> 302865.4 | H22: =IFERROR(VLOOKUP(A22,DWH!$D$12:$E$1048576,2,FALSE),"") -> 3063407.6 | J22: 1 | U22: 2
A23: AE | C23: Emirates | E23: halten | G23: =IFERROR(VLOOKUP(A23,DWH!$A$12:$B$1048576,2,FALSE),"") -> 16593.76 | H23: =IFERROR(VLOOKUP(A23,DWH!$D$12:$E$1048576,2,FALSE),"") -> 0 | J23: 1 | V23: 1 | W23: 3 | X23: 3 | AG23: 2
A24: IN | C24: India | E24: ausbauen | G24: =IFERROR(VLOOKUP(A24,DWH!$A$12:$B$1048576,2,FALSE),"") -> 3335266.9 | H24: =IFERROR(VLOOKUP(A24,DWH!$D$12:$E$1048576,2,FALSE),"") -> 310135.56 | J24: 1 | Y24: 2
A25: ID | C25: Indonesia | E25: halten | G25: =IFERROR(VLOOKUP(A25,DWH!$A$12:$B$1048576,2,FALSE),"") -> 33552.36 | H25: =IFERROR(VLOOKUP(A25,DWH!$D$12:$E$1048576,2,FALSE),"") -> 10479.88 | J25: 1 | Z25: 2
A26: IR | C26: Iran | E26: distanzieren | G26: =IFERROR(VLOOKUP(A26,DWH!$A$12:$B$1048576,2,FALSE),"") -> 0 | H26: =IFERROR(VLOOKUP(A26,DWH!$D$12:$E$1048576,2,FALSE),"") -> 0 | AZ26: 1
A27: JP | C27: Japan | E27: halten | G27: =IFERROR(VLOOKUP(A27,DWH!$A$12:$B$1048576,2,FALSE),"") -> 4462634.1 | H27: =IFERROR(VLOOKUP(A27,DWH!$D$12:$E$1048576,2,FALSE),"") -> 1076.61 | J27: 1
A28: QA | C28: Qatar | E28: halten | G28: =IFERROR(VLOOKUP(A28,DWH!$A$12:$B$1048576,2,FALSE),"") -> 6525.17 | H28: =IFERROR(VLOOKUP(A28,DWH!$D$12:$E$1048576,2,FALSE),"") -> 0 | V28: 3 | AJ28: 1
A29: KR | C29: South Korea | E29: halten | G29: =IFERROR(VLOOKUP(A29,DWH!$A$12:$B$1048576,2,FALSE),"") -> 416866.56 | H29: =IFERROR(VLOOKUP(A29,DWH!$D$12:$E$1048576,2,FALSE),"") -> 29492.33 | J29: 1
A30: TW | C30: Taiwan | E30: halten | G30: =IFERROR(VLOOKUP(A30,DWH!$A$12:$B$1048576,2,FALSE),"") -> 13644.55 | H30: =IFERROR(VLOOKUP(A30,DWH!$D$12:$E$1048576,2,FALSE),"") -> 16934.26 | J30: 1
A31: VN | C31: Vietnam | E31: ausbauen | G31: =IFERROR(VLOOKUP(A31,DWH!$A$12:$B$1048576,2,FALSE),"") -> 45792.72 | H31: =IFERROR(VLOOKUP(A31,DWH!$D$12:$E$1048576,2,FALSE),"") -> 45557.14 | AB31: 1
A32: AU | B32: Australia | C32: Australia | E32: halten | G32: =IFERROR(VLOOKUP(A32,DWH!$A$12:$B$1048576,2,FALSE),"") -> 4895472.8 | H32: =IFERROR(VLOOKUP(A32,DWH!$D$12:$E$1048576,2,FALSE),"") -> 1977 | J32: 1 | AC32: 2
A33: NZ | C33: New Zealand | E33: halten | G33: =IFERROR(VLOOKUP(A33,DWH!$A$12:$B$1048576,2,FALSE),"") -> 890658.63 | H33: =IFERROR(VLOOKUP(A33,DWH!$D$12:$E$1048576,2,FALSE),"") -> 419 | J33: 1 | AD33: 2 | AE33: 3
A34: EG | B34: Africa | C34: Egypt | E34: halten | G34: =IFERROR(VLOOKUP(A34,DWH!$A$12:$B$1048576,2,FALSE),"") -> 36244.14 | H34: =IFERROR(VLOOKUP(A34,DWH!$D$12:$E$1048576,2,FALSE),"") -> 375 | AF34: 1
A35: ZA | C35: South Africa | E35: halten | G35: =IFERROR(VLOOKUP(A35,DWH!$A$12:$B$1048576,2,FALSE),"") -> 3599052 | H35: =IFERROR(VLOOKUP(A35,DWH!$D$12:$E$1048576,2,FALSE),"") -> 283145.94 | AG35: 1
B37: REST | C37: North America | G37: =DWH!I7-SUM(G9:G10) -> 0 | H37: =DWH!M7-SUM(H9:H10) -> 0
C38: South America | G38: =DWH!I8-SUM(G11:G15) -> 1826633.4 | H38: =DWH!M8-SUM(H11:H15) -> 7767.57
C39: Europe | G39: =DWH!I6-SUM(G16:G20) -> 3675560.5 | H39: =DWH!M6-SUM(H16:H20) -> 26208776
C40: Asia | G40: =DWH!I4-SUM(G21:G31) -> 435151 | H40: =DWH!M4-SUM(H21:H31) -> 609843.06
C41: Oceania | G41: =DWH!I5-SUM(G32:G33) -> 3037.84 | H41: =DWH!M5-SUM(H32:H33) -> 20358.85
C42: Africa | G42: =DWH!I3-SUM(G34:G35) -> 583938.89 | H42: =DWH!M3-SUM(H34:H35) -> 0

Sheet DWH
A1: Import | D1: Export | G1: ÜBERTRAG IMPORT | K1: ÜBERTRAG EXPORT
H3: Afrika | I3: =SUMIF(H12:H1000,"Afrika",I12:I1000) -> 4219235 | L3: Afrika | M3: =SUMIF(L12:L1000,"Afrika",M12:M1000) -> 283520.94
H4: Asien | I4: =SUMIF(H12:H1000,"Asien",I12:I1000) -> 9068892.6 | L4: Asien | M4: =SUMIF(L12:L1000,"Asien",M12:M1000) -> 4086926.5
H5: Australien | I5: =SUMIF(H12:H1000,"Australien und Ozeanien",I12:I1000) -> 5789169.2 | L5: Australien | M5: =SUMIF(L12:L1000,"Australien und Ozeanien",M12:M1000) -> 22754.85
H6: Europa | I6: =SUMIF(H12:H1000,"Europa",I12:I1000) -> 4905323.5 | L6: Europa | M6: =SUMIF(L12:L1000,"Europa",M12:M1000) -> 46127056
A7: Kostenstellen | B7: GB Ocean | D7: Kostenstellen | E7: GB Ocean | H7: Nordamerika | I7: =SUMIF(H12:H1000,"Nordamerika",I12:I1000) -> 17320343 | L7: Nordamerika | M7: =SUMIF(L12:L1000,"Nordamerika",M12:M1000) -> 116929.4
A8: JahrMonat | B8: Alle JahrMonat | D8: JahrMonat | E8: Alle JahrMonat | H8: Südamerika | I8: =SUMIF(H12:H1000,"Südamerika",I12:I1000) -> 9423141.1 | L8: Südamerika | M8: =SUMIF(L12:L1000,"Südamerika",M12:M1000) -> 209582.25
A10: Umsatz KTR | D10: Umsatz KTR
A11: Empfaengerland | B11: Ergebnis | D11: AbsenderLand | E11: Ergebnis | G11: Länderkürzel | H11: Kontinent | I11: Umsatz | K11: Länderkürzel | L11: Kontinent | M11: Umsatz
G12: =A12 -> 0 | H12: =IFERROR(VLOOKUP(G12,Verweis!$D:$F,3,FALSE),"") | I12: =B12 -> 0 | K12: =D12 -> 0 | L12: =IFERROR(VLOOKUP(K12,Verweis!$D:$F,3,FALSE),"") | M12: =E12 -> 0
A13: AD | D13: AE | G13: =A13 -> AD | H13: =IFERROR(VLOOKUP(G13,Verweis!$D:$F,3,FALSE),"") -> Europa | I13: =B13 -> 0 | K13: =D13 -> AE | L13: =IFERROR(VLOOKUP(K13,Verweis!$D:$F,3,FALSE),"") -> Asien | M13: =E13 -> 0
A14: AE | B14: 16593.76 | D14: AL | G14: =A14 -> AE | H14: =IFERROR(VLOOKUP(G14,Verweis!$D:$F,3,FALSE),"") -> Asien | I14: =B14 -> 16593.76 | K14: =D14 -> AL | L14: =IFERROR(VLOOKUP(K14,Verweis!$D:$F,3,FALSE),"") -> Europa | M14: =E14 -> 0
A15: AF | D15: AM | G15: =A15 -> AF | H15: =IFERROR(VLOOKUP(G15,Verweis!$D:$F,3,FALSE),"") -> Asien | I15: =B15 -> 0 | K15: =D15 -> AM | L15: =IFERROR(VLOOKUP(K15,Verweis!$D:$F,3,FALSE),"") -> Asien | M15: =E15 -> 0
A16: AG | B16: 9900.81 | D16: AR | E16: 123514.75 | G16: =A16 -> AG | H16: =IFERROR(VLOOKUP(G16,Verweis!$D:$F,3,FALSE),"") -> Südamerika | I16: =B16 -> 9900.81 | K16: =D16 -> AR | L16: =IFERROR(VLOOKUP(K16,Verweis!$D:$F,3,FALSE),"") -> Südamerika | M16: =E16 -> 123514.75
A17: AL | B17: 0 | D17: AT | E17: 26147010 | G17: =A17 -> AL | H17: =IFERROR(VLOOKUP(G17,Verweis!$D:$F,3,FALSE),"") -> Europa | I17: =B17 -> 0 | K17: =D17 -> AT | L17: =IFERROR(VLOOKUP(K17,Verweis!$D:$F,3,FALSE),"") -> Europa | M17: =E17 -> 26147010
A18: AM | B18: 4404.99 | D18: AU | E18: 1977 | G18: =A18 -> AM | H18: =IFERROR(VLOOKUP(G18,Verweis!$D:$F,3,FALSE),"") -> Asien | I18: =B18 -> 4404.99 | K18: =D18 -> AU | L18: =IFERROR(VLOOKUP(K18,Verweis!$D:$F,3,FALSE),"") -> Australien und Ozeanien | M18: =E18 -> 1977
A19: AN | D19: AZ | G19: =A19 -> AN | H19: =IFERROR(VLOOKUP(G19,Verweis!$D:$F,3,FALSE),"") -> Südamerika | I19: =B19 -> 0 | K19: =D19 -> AZ | L19: =IFERROR(VLOOKUP(K19,Verweis!$D:$F,3,FALSE),"") -> Asien | M19: =E19 -> 0
A20: AO | B20: 2549 | D20: BA | G20: =A20 -> AO | H20: =IFERROR(VLOOKUP(G20,Verweis!$D:$F,3,FALSE),"") -> Afrika | I20: =B20 -> 2549 | K20: =D20 -> BA | L20: =IFERROR(VLOOKUP(K20,Verweis!$D:$F,3,FALSE),"") -> Europa | M20: =E20 -> 0
A21: AR | B21: 571972.45 | D21: BD | G21: =A21 -> AR | H21: =IFERROR(VLOOKUP(G21,Verweis!$D:$F,3,FALSE),"") -> Südamerika | I21: =B21 -> 571972.45 | K21: =D21 -> BD | L21: =IFERROR(VLOOKUP(K21,Verweis!$D:$F,3,FALSE),"") -> Asien | M21: =E21 -> 0
A22: AT | B22: 3728778 | D22: BE | E22: 6326 | G22: =A22 -> AT | H22: =IFERROR(VLOOKUP(G22,Verweis!$D:$F,3,FALSE),"") -> Europa | I22: =B22 -> 3728778 | K22: =D22 -> BE | L22: =IFERROR(VLOOKUP(K22,Verweis!$D:$F,3,FALSE),"") -> Europa | M22: =E22 -> 6326
A23: AU | B23: 4895472.8 | D23: BG | G23: =A23 -> AU | H23: =IFERROR(VLOOKUP(G23,Verweis!$D:$F,3,FALSE),"") -> Australien und Ozeanien | I23: =B23 -> 4895472.8 | K23: =D23 -> BG | L23: =IFERROR(VLOOKUP(K23,Verweis!$D:$F,3,FALSE),"") -> Europa | M23: =E23 -> 0
A24: AW | B24: 25452.78 | D24: BM | G24: =A24 -> AW | H24: =IFERROR(VLOOKUP(G24,Verweis!$D:$F,3,FALSE),"") -> Südamerika | I24: =B24 -> 25452.78 | K24: =D24 -> BM | L24: =IFERROR(VLOOKUP(K24,Verweis!$D:$F,3,FALSE),"") -> Südamerika | M24: =E24 -> 0
A25: AZ | B25: 20787 | D25: BN | G25: =A25 -> AZ | H25: =IFERROR(VLOOKUP(G25,Verweis!$D:$F,3,FALSE),"") -> Asien | I25: =B25 -> 20787 | K25: =D25 -> BN | L25: =IFERROR(VLOOKUP(K25,Verweis!$D:$F,3,FALSE),"") -> Asien | M25: =E25 -> 0
A26: BA | D26: BR | E26: 4958.02 | G26: =A26 -> BA | H26: =IFERROR(VLOOKUP(G26,Verweis!$D:$F,3,FALSE),"") -> Europa | I26: =B26 -> 0 | K26: =D26 -> BR | L26: =IFERROR(VLOOKUP(K26,Verweis!$D:$F,3,FALSE),"") -> Südamerika | M26: =E26 -> 4958.02
A27: BB | B27: 5630 | D27: BY | G27: =A27 -> BB | H27: =IFERROR(VLOOKUP(G27,Verweis!$D:$F,3,FALSE),"") -> Südamerika | I27: =B27 -> 5630 | K27: =D27 -> BY | L27: =IFERROR(VLOOKUP(K27,Verweis!$D:$F,3,FALSE),"") -> Europa | M27: =E27 -> 0
A28: BD | D28: CA | E28: 34433.01 | G28: =A28 -> BD | H28: =IFERROR(VLOOKUP(G28,Verweis!$D:$F,3,FALSE),"") -> Asien | I28: =B28 -> 0 | K28: =D28 -> CA | L28: =IFERROR(VLOOKUP(K28,Verweis!$D:$F,3,FALSE),"") -> Nordamerika | M28: =E28 -> 34433.01
A29: BE | B29: 180 | D29: CH | E29: 18690780 | G29: =A29 -> BE | H29: =IFERROR(VLOOKUP(G29,Verweis!$D:$F,3,FALSE),"") -> Europa | I29: =B29 -> 180 | K29: =D29 -> CH | L29: =IFERROR(VLOOKUP(K29,Verweis!$D:$F,3,FALSE),"") -> Europa | M29: =E29 -> 18690780
A30: BG | D30: CL | E30: 63078.91 | G30: =A30 -> BG | H30: =IFERROR(VLOOKUP(G30,Verweis!$D:$F,3,FALSE),"") -> Europa | I30: =B30 -> 0 | K30: =D30 -> CL | L30: =IFERROR(VLOOKUP(K30,Verweis!$D:$F,3,FALSE),"") -> Südamerika | M30: =E30 -> 63078.91
A31: BH | B31: 3942.3 | D31: CN | E31: 3063407.6 | G31: =A31 -> BH | H31: =IFERROR(VLOOKUP(G31,Verweis!$D:$F,3,FALSE),"") -> Asien | I31: =B31 -> 3942.3 | K31: =D31 -> CN | L31: =IFERROR(VLOOKUP(K31,Verweis!$D:$F,3,FALSE),"") -> Asien | M31: =E31 -> 3063407.6
A32: BJ | D32: CY | G32: =A32 -> BJ | H32: =IFERROR(VLOOKUP(G32,Verweis!$D:$F,3,FALSE),"") -> Afrika | I32: =B32 -> 0 | K32: =D32 -> CY | L32: =IFERROR(VLOOKUP(K32,Verweis!$D:$F,3,FALSE),"") -> Asien | M32: =E32 -> 0
A33: BM | B33: 27786.16 | D33: CZ | E33: 23266.46 | G33: =A33 -> BM | H33: =IFERROR(VLOOKUP(G33,Verweis!$D:$F,3,FALSE),"") -> Südamerika | I33: =B33 -> 27786.16 | K33: =D33 -> CZ | L33: =IFERROR(VLOOKUP(K33,Verweis!$D:$F,3,FALSE),"") -> Europa | M33: =E33 -> 23266.46
A34: BN | D34: DE | E34: 1186821.8 | G34: =A34 -> BN | H34: =IFERROR(VLOOKUP(G34,Verweis!$D:$F,3,FALSE),"") -> Asien | I34: =B34 -> 0 | K34: =D34 -> DE | L34: =IFERROR(VLOOKUP(K34,Verweis!$D:$F,3,FALSE),"") -> Europa | M34: =E34 -> 1186821.8
A35: BO | B35: 100972.8 | D35: DK | E35: 7741.95 | G35: =A35 -> BO | H35: =IFERROR(VLOOKUP(G35,Verweis!$D:$F,3,FALSE),"") -> Südamerika | I35: =B35 -> 100972.8 | K35: =D35 -> DK | L35: =IFERROR(VLOOKUP(K35,Verweis!$D:$F,3,FALSE),"") -> Europa | M35: =E35 -> 7741.95
A36: BR | B36: 5105540.7 | D36: DO | G36: =A36 -> BR | H36: =IFERROR(VLOOKUP(G36,Verweis!$D:$F,3,FALSE),"") -> Südamerika | I36: =B36 -> 5105540.7 | K36: =D36 -> DO | L36: =IFERROR(VLOOKUP(K36,Verweis!$D:$F,3,FALSE),"") -> Südamerika | M36: =E36 -> 0
A37: BS | B37: 71973 | D37: DZ | G37: =A37 -> BS | H37: =IFERROR(VLOOKUP(G37,Verweis!$D:$F,3,FALSE),"") -> Südamerika | I37: =B37 -> 71973 | K37: =D37 -> DZ | L37: =IFERROR(VLOOKUP(K37,Verweis!$D:$F,3,FALSE),"") -> Afrika | M37: =E37 -> 0
A38: BW | B38: 800 | D38: EE | G38: =A38 -> BW | H38: =IFERROR(VLOOKUP(G38,Verweis!$D:$F,3,FALSE),"") -> Afrika | I38: =B38 -> 800 | K38: =D38 -> EE | L38: =IFERROR(VLOOKUP(K38,Verweis!$D:$F,3,FALSE),"") -> Europa | M38: =E38 -> 0
A39: BY | D39: EG | E39: 375 | G39: =A39 -> BY | H39: =IFERROR(VLOOKUP(G39,Verweis!$D:$F,3,FALSE),"") -> Europa | I39: =B39 -> 0 | K39: =D39 -> EG | L39: =IFERROR(VLOOKUP(K39,Verweis!$D:$F,3,FALSE),"") -> Afrika | M39: =E39 -> 375
A40: CA | B40: 6840979.8 | D40: ES | E40: 1842.36 | G40: =A40 -> CA | H40: =IFERROR(VLOOKUP(G40,Verweis!$D:$F,3,FALSE),"") -> Nordamerika | I40: =B40 -> 6840979.8 | K40: =D40 -> ES | L40: =IFERROR(VLOOKUP(K40,Verweis!$D:$F,3,FALSE),"") -> Europa | M40: =E40 -> 1842.36
A41: CD | D41: FI | G41: =A41 -> CD | H41: =IFERROR(VLOOKUP(G41,Verweis!$D:$F,3,FALSE),"") -> Afrika | I41: =B41 -> 0 | K41: =D41 -> FI | L41: =IFERROR(VLOOKUP(K41,Verweis!$D:$F,3,FALSE),"") -> Europa | M41: =E41 -> 0
A42: CF | D42: FR | E42: 12804.87 | G42: =A42 -> CF | H42: =IFERROR(VLOOKUP(G42,Verweis!$D:$F,3,FALSE),"") -> Afrika | I42: =B42 -> 0 | K42: =D42 -> FR | L42: =IFERROR(VLOOKUP(K42,Verweis!$D:$F,3,FALSE),"") -> Europa | M42: =E42 -> 12804.87
A43: CG | D43: GB | E43: 7787.04 | G43: =A43 -> CG | H43: =IFERROR(VLOOKUP(G43,Verweis!$D:$F,3,FALSE),"") -> Afrika | I43: =B43 -> 0 | K43: =D43 -> GB | L43: =IFERROR(VLOOKUP(K43,Verweis!$D:$F,3,FALSE),"") -> Europa | M43: =E43 -> 7787.04
A44: CH | B44: 231791.54 | D44: GE | G44: =A44 -> CH | H44: =IFERROR(VLOOKUP(G44,Verweis!$D:$F,3,FALSE),"") -> Europa | I44: =B44 -> 231791.54 | K44: =D44 -> GE | L44: =IFERROR(VLOOKUP(K44,Verweis!$D:$F,3,FALSE),"") -> Asien | M44: =E44 -> 0
A45: CI | D45: GR | G45: =A45 -> CI | H45: =IFERROR(VLOOKUP(G45,Verweis!$D:$F,3,FALSE),"") -> Afrika | I45: =B45 -> 0 | K45: =D45 -> GR | L45: =IFERROR(VLOOKUP(K45,Verweis!$D:$F,3,FALSE),"") -> Europa | M45: =E45 -> 0
A46: CL | B46: 1575445.5 | D46: GT | G46: =A46 -> CL | H46: =IFERROR(VLOOKUP(G46,Verweis!$D:$F,3,FALSE),"") -> Südamerika | I46: =B46 -> 1575445.5 | K46: =D46 -> GT | L46: =IFERROR(VLOOKUP(K46,Verweis!$D:$F,3,FALSE),"") -> Südamerika | M46: =E46 -> 0
A47: CM | D47: HK | E47: 27022.83 | G47: =A47 -> CM | H47: =IFERROR(VLOOKUP(G47,Verweis!$D:$F,3,FALSE),"") -> Afrika | I47: =B47 -> 0 | K47: =D47 -> HK | L47: =IFERROR(VLOOKUP(K47,Verweis!$D:$F,3,FALSE),"") -> Asien | M47: =E47 -> 27022.83
A48: CN | B48: 302865.4 | D48: HR | G48: =A48 -> CN | H48: =IFERROR(VLOOKUP(G48,Verweis!$D:$F,3,FALSE),"") -> Asien | I48: =B48 -> 302865.4 | K48: =D48 -> HR | L48: =IFERROR(VLOOKUP(K48,Verweis!$D:$F,3,FALSE),"") -> Europa | M48: =E48 -> 0
A49: CO | B49: 265958.76 | D49: HU | E49: 1864.77 | G49: =A49 -> CO | H49: =IFERROR(VLOOKUP(G49,Verweis!$D:$F,3,FALSE),"") -> Südamerika | I49: =B49 -> 265958.76 | K49: =D49 -> HU | L49: =IFERROR(VLOOKUP(K49,Verweis!$D:$F,3,FALSE),"") -> Europa | M49: =E49 -> 1864.77
A50: CR | B50: 75076.42 | D50: ID | E50: 10479.88 | G50: =A50 -> CR | H50: =IFERROR(VLOOKUP(G50,Verweis!$D:$F,3,FALSE),"") -> Südamerika | I50: =B50 -> 75076.42 | K50: =D50 -> ID | L50: =IFERROR(VLOOKUP(K50,Verweis!$D:$F,3,FALSE),"") -> Asien | M50: =E50 -> 10479.88
A51: CU | B51: 160330.08 | D51: IE | G51: =A51 -> CU | H51: =IFERROR(VLOOKUP(G51,Verweis!$D:$F,3,FALSE),"") -> Südamerika | I51: =B51 -> 160330.08 | K51: =D51 -> IE | L51: =IFERROR(VLOOKUP(K51,Verweis!$D:$F,3,FALSE),"") -> Europa | M51: =E51 -> 0
A52: CV | B52: 6645 | D52: IL | E52: 698.04 | G52: =A52 -> CV | H52: =IFERROR(VLOOKUP(G52,Verweis!$D:$F,3,FALSE),"") -> Afrika | I52: =B52 -> 6645 | K52: =D52 -> IL | L52: =IFERROR(VLOOKUP(K52,Verweis!$D:$F,3,FALSE),"") -> Asien | M52: =E52 -> 698.04
A53: CW | B53: 30706 | D53: IN | E53: 310135.56 | G53: =A53 -> CW | H53: =IFERROR(VLOOKUP(G53,Verweis!$D:$F,3,FALSE),"") -> Südamerika | I53: =B53 -> 30706 | K53: =D53 -> IN | L53: =IFERROR(VLOOKUP(K53,Verweis!$D:$F,3,FALSE),"") -> Asien | M53: =E53 -> 310135.56
A54: CY | B54: 4717 | D54: IQ | G54: =A54 -> CY | H54: =IFERROR(VLOOKUP(G54,Verweis!$D:$F,3,FALSE),"") -> Asien | I54: =B54 -> 4717 | K54: =D54 -> IQ | L54: =IFERROR(VLOOKUP(K54,Verweis!$D:$F,3,FALSE),"") -> Asien | M54: =E54 -> 0
A55: CZ | D55: IR | G55: =A55 -> CZ | H55: =IFERROR(VLOOKUP(G55,Verweis!$D:$F,3,FALSE),"") -> Europa | I55: =B55 -> 0 | K55: =D55 -> IR | L55: =IFERROR(VLOOKUP(K55,Verweis!$D:$F,3,FALSE),"") -> Asien | M55: =E55 -> 0
A56: DE | B56: 823708.3 | D56: IS | G56: =A56 -> DE | H56: =IFERROR(VLOOKUP(G56,Verweis!$D:$F,3,FALSE),"") -> Europa | I56: =B56 -> 823708.3 | K56: =D56 -> IS | L56: =IFERROR(VLOOKUP(K56,Verweis!$D:$F,3,FALSE),"") -> Europa | M56: =E56 -> 0
A57: DJ | D57: IT | G57: =A57 -> DJ | H57: =IFERROR(VLOOKUP(G57,Verweis!$D:$F,3,FALSE),"") -> Afrika | I57: =B57 -> 0 | K57: =D57 -> IT | L57: =IFERROR(VLOOKUP(K57,Verweis!$D:$F,3,FALSE),"") -> Europa | M57: =E57 -> 0
A58: DK | D58: JP | E58: 1076.61 | G58: =A58 -> DK | H58: =IFERROR(VLOOKUP(G58,Verweis!$D:$F,3,FALSE),"") -> Europa | I58: =B58 -> 0 | K58: =D58 -> JP | L58: =IFERROR(VLOOKUP(K58,Verweis!$D:$F,3,FALSE),"") -> Asien | M58: =E58 -> 1076.61
A59: DO | B59: 107050.41 | D59: KE | G59: =A59 -> DO | H59: =IFERROR(VLOOKUP(G59,Verweis!$D:$F,3,FALSE),"") -> Südamerika | I59: =B59 -> 107050.41 | K59: =D59 -> KE | L59: =IFERROR(VLOOKUP(K59,Verweis!$D:$F,3,FALSE),"") -> Afrika | M59: =E59 -> 0
A60: DZ | B60: 86395.03 | D60: KR | E60: 29492.33 | G60: =A60 -> DZ | H60: =IFERROR(VLOOKUP(G60,Verweis!$D:$F,3,FALSE),"") -> Afrika | I60: =B60 -> 86395.03 | K60: =D60 -> KR | L60: =IFERROR(VLOOKUP(K60,Verweis!$D:$F,3,FALSE),"") -> Asien | M60: =E60 -> 29492.33
A61: EC | B61: 46585.58 | D61: KZ | G61: =A61 -> EC | H61: =IFERROR(VLOOKUP(G61,Verweis!$D:$F,3,FALSE),"") -> Südamerika | I61: =B61 -> 46585.58 | K61: =D61 -> KZ | L61: =IFERROR(VLOOKUP(K61,Verweis!$D:$F,3,FALSE),"") -> Asien | M61: =E61 -> 0
A62: EE | D62: LB | G62: =A62 -> EE | H62: =IFERROR(VLOOKUP(G62,Verweis!$D:$F,3,FALSE),"") -> Europa | I62: =B62 -> 0 | K62: =D62 -> LB | L62: =IFERROR(VLOOKUP(K62,Verweis!$D:$F,3,FALSE),"") -> Asien | M62: =E62 -> 0
A63: EG | B63: 36244.14 | D63: LI | E63: 1998 | G63: =A63 -> EG | H63: =IFERROR(VLOOKUP(G63,Verweis!$D:$F,3,FALSE),"") -> Afrika | I63: =B63 -> 36244.14 | K63: =D63 -> LI | L63: =IFERROR(VLOOKUP(K63,Verweis!$D:$F,3,FALSE),"") -> Europa | M63: =E63 -> 1998
A64: ES | D64: LK | E64: 1905 | G64: =A64 -> ES | H64: =IFERROR(VLOOKUP(G64,Verweis!$D:$F,3,FALSE),"") -> Europa | I64: =B64 -> 0 | K64: =D64 -> LK | L64: =IFERROR(VLOOKUP(K64,Verweis!$D:$F,3,FALSE),"") -> Asien | M64: =E64 -> 1905
A65: ET | D65: LT | G65: =A65 -> ET | H65: =IFERROR(VLOOKUP(G65,Verweis!$D:$F,3,FALSE),"") -> Afrika | I65: =B65 -> 0 | K65: =D65 -> LT | L65: =IFERROR(VLOOKUP(K65,Verweis!$D:$F,3,FALSE),"") -> Europa | M65: =E65 -> 0
A66: FI | D66: LU | G66: =A66 -> FI | H66: =IFERROR(VLOOKUP(G66,Verweis!$D:$F,3,FALSE),"") -> Europa | I66: =B66 -> 0 | K66: =D66 -> LU | L66: =IFERROR(VLOOKUP(K66,Verweis!$D:$F,3,FALSE),"") -> Europa | M66: =E66 -> 0
A67: FJ | D67: LV | G67: =A67 -> FJ | H67: =IFERROR(VLOOKUP(G67,Verweis!$D:$F,3,FALSE),"") -> Australien und Ozeanien | I67: =B67 -> 0 | K67: =D67 -> LV | L67: =IFERROR(VLOOKUP(K67,Verweis!$D:$F,3,FALSE),"") -> Europa | M67: =E67 -> 0
A68: FR | B68: 68035 | D68: MA | G68: =A68 -> FR | H68: =IFERROR(VLOOKUP(G68,Verweis!$D:$F,3,FALSE),"") -> Europa | I68: =B68 -> 68035 | K68: =D68 -> MA | L68: =IFERROR(VLOOKUP(K68,Verweis!$D:$F,3,FALSE),"") -> Afrika | M68: =E68 -> 0
A69: GA | B69: 38748.99 | D69: MC | G69: =A69 -> GA | H69: =IFERROR(VLOOKUP(G69,Verweis!$D:$F,3,FALSE),"") -> Afrika | I69: =B69 -> 38748.99 | K69: =D69 -> MC | L69: =IFERROR(VLOOKUP(K69,Verweis!$D:$F,3,FALSE),"") -> Europa | M69: =E69 -> 0
A70: GB | B70: 961.6 | D70: MG | G70: =A70 -> GB | H70: =IFERROR(VLOOKUP(G70,Verweis!$D:$F,3,FALSE),"") -> Europa | I70: =B70 -> 961.6 | K70: =D70 -> MG | L70: =IFERROR(VLOOKUP(K70,Verweis!$D:$F,3,FALSE),"") -> Afrika | M70: =E70 -> 0
A71: GD | B71: 6244.63 | D71: MH | E71: 20358.85 | G71: =A71 -> GD | H71: =IFERROR(VLOOKUP(G71,Verweis!$D:$F,3,FALSE),"") -> Südamerika | I71: =B71 -> 6244.63 | K71: =D71 -> MH | L71: =IFERROR(VLOOKUP(K71,Verweis!$D:$F,3,FALSE),"") -> Australien und Ozeanien | M71: =E71 -> 20358.85
A72: GE | B72: 18625 | D72: ML | G72: =A72 -> GE | H72: =IFERROR(VLOOKUP(G72,Verweis!$D:$F,3,FALSE),"") -> Asien | I72: =B72 -> 18625 | K72: =D72 -> ML | L72: =IFERROR(VLOOKUP(K72,Verweis!$D:$F,3,FALSE),"") -> Afrika | M72: =E72 -> 0
A73: GF | B73: 42266.77 | D73: MM | G73: =A73 -> GF | H73: =IFERROR(VLOOKUP(G73,Verweis!$D:$F,3,FALSE),"") -> Südamerika | I73: =B73 -> 42266.77 | K73: =D73 -> MM | L73: =IFERROR(VLOOKUP(K73,Verweis!$D:$F,3,FALSE),"") -> Asien | M73: =E73 -> 0
A74: GH | B74: 4507 | D74: MO | G74: =A74 -> GH | H74: =IFERROR(VLOOKUP(G74,Verweis!$D:$F,3,FALSE),"") -> Afrika | I74: =B74 -> 4507 | K74: =D74 -> MO | L74: =IFERROR(VLOOKUP(K74,Verweis!$D:$F,3,FALSE),"") -> Asien | M74: =E74 -> 0
A75: GI | D75: MT | G75: =A75 -> GI | H75: =IFERROR(VLOOKUP(G75,Verweis!$D:$F,3,FALSE),"") -> Europa | I75: =B75 -> 0 | K75: =D75 -> MT | L75: =IFERROR(VLOOKUP(K75,Verweis!$D:$F,3,FALSE),"") -> Europa | M75: =E75 -> 0
A76: GN | B76: 1424 | D76: MU | G76: =A76 -> GN | H76: =IFERROR(VLOOKUP(G76,Verweis!$D:$F,3,FALSE),"") -> Afrika | I76: =B76 -> 1424 | K76: =D76 -> MU | L76: =IFERROR(VLOOKUP(K76,Verweis!$D:$F,3,FALSE),"") -> Afrika | M76: =E76 -> 0
A77: GP | B77: 35881.89 | D77: MW | G77: =A77 -> GP | H77: =IFERROR(VLOOKUP(G77,Verweis!$D:$F,3,FALSE),"") -> Südamerika | I77: =B77 -> 35881.89 | K77: =D77 -> MW | L77: =IFERROR(VLOOKUP(K77,Verweis!$D:$F,3,FALSE),"") -> Afrika | M77: =E77 -> 0
A78: GQ | B78: 2983 | D78: MX | E78: 10263 | G78: =A78 -> GQ | H78: =IFERROR(VLOOKUP(G78,Verweis!$D:$F,3,FALSE),"") -> Afrika | I78: =B78 -> 2983 | K78: =D78 -> MX | L78: =IFERROR(VLOOKUP(K78,Verweis!$D:$F,3,FALSE),"") -> Südamerika | M78: =E78 -> 10263
A79: GR | B79: 5770.6 | D79: MY | E79: 21150.01 | G79: =A79 -> GR | H79: =IFERROR(VLOOKUP(G79,Verweis!$D:$F,3,FALSE),"") -> Europa | I79: =B79 -> 5770.6 | K79: =D79 -> MY | L79: =IFERROR(VLOOKUP(K79,Verweis!$D:$F,3,FALSE),"") -> Asien | M79: =E79 -> 21150.01
A80: GT | B80: 86954.04 | D80: NL | E80: 28240.53 | G80: =A80 -> GT | H80: =IFERROR(VLOOKUP(G80,Verweis!$D:$F,3,FALSE),"") -> Südamerika | I80: =B80 -> 86954.04 | K80: =D80 -> NL | L80: =IFERROR(VLOOKUP(K80,Verweis!$D:$F,3,FALSE),"") -> Europa | M80: =E80 -> 28240.53
A81: HK | B81: 14228.13 | D81: NO | G81: =A81 -> HK | H81: =IFERROR(VLOOKUP(G81,Verweis!$D:$F,3,FALSE),"") -> Asien | I81: =B81 -> 14228.13 | K81: =D81 -> NO | L81: =IFERROR(VLOOKUP(K81,Verweis!$D:$F,3,FALSE),"") -> Europa | M81: =E81 -> 0
A82: HN | B82: 22206.68 | D82: NP | G82: =A82 -> HN | H82: =IFERROR(VLOOKUP(G82,Verweis!$D:$F,3,FALSE),"") -> Südamerika | I82: =B82 -> 22206.68 | K82: =D82 -> NP | L82: =IFERROR(VLOOKUP(K82,Verweis!$D:$F,3,FALSE),"") -> Asien | M82: =E82 -> 0
A83: HR | D83: NZ | E83: 419 | G83: =A83 -> HR | H83: =IFERROR(VLOOKUP(G83,Verweis!$D:$F,3,FALSE),"") -> Europa | I83: =B83 -> 0 | K83: =D83 -> NZ | L83: =IFERROR(VLOOKUP(K83,Verweis!$D:$F,3,FALSE),"") -> Australien und Ozeanien | M83: =E83 -> 419
A84: HU | B84: 1810 | D84: PA | G84: =A84 -> HU | H84: =IFERROR(VLOOKUP(G84,Verweis!$D:$F,3,FALSE),"") -> Europa | I84: =B84 -> 1810 | K84: =D84 -> PA | L84: =IFERROR(VLOOKUP(K84,Verweis!$D:$F,3,FALSE),"") -> Südamerika | M84: =E84 -> 0
A85: ID | B85: 33552.36 | D85: PE | E85: 7767.57 | G85: =A85 -> ID | H85: =IFERROR(VLOOKUP(G85,Verweis!$D:$F,3,FALSE),"") -> Asien | I85: =B85 -> 33552.36 | K85: =D85 -> PE | L85: =IFERROR(VLOOKUP(K85,Verweis!$D:$F,3,FALSE),"") -> Südamerika | M85: =E85 -> 7767.57
A86: IE | D86: PH | G86: =A86 -> IE | H86: =IFERROR(VLOOKUP(G86,Verweis!$D:$F,3,FALSE),"") -> Europa | I86: =B86 -> 0 | K86: =D86 -> PH | L86: =IFERROR(VLOOKUP(K86,Verweis!$D:$F,3,FALSE),"") -> Asien | M86: =E86 -> 0
A87: IL | B87: 21402.62 | D87: PK | E87: 80229.36 | G87: =A87 -> IL | H87: =IFERROR(VLOOKUP(G87,Verweis!$D:$F,3,FALSE),"") -> Asien | I87: =B87 -> 21402.62 | K87: =D87 -> PK | L87: =IFERROR(VLOOKUP(K87,Verweis!$D:$F,3,FALSE),"") -> Asien | M87: =E87 -> 80229.36
A88: IN | B88: 3335266.9 | D88: PL | E88: 185.2 | G88: =A88 -> IN | H88: =IFERROR(VLOOKUP(G88,Verweis!$D:$F,3,FALSE),"") -> Asien | I88: =B88 -> 3335266.9 | K88: =D88 -> PL | L88: =IFERROR(VLOOKUP(K88,Verweis!$D:$F,3,FALSE),"") -> Europa | M88: =E88 -> 185.2
A89: IQ | D89: PT | G89: =A89 -> IQ | H89: =IFERROR(VLOOKUP(G89,Verweis!$D:$F,3,FALSE),"") -> Asien | I89: =B89 -> 0 | K89: =D89 -> PT | L89: =IFERROR(VLOOKUP(K89,Verweis!$D:$F,3,FALSE),"") -> Europa | M89: =E89 -> 0
A90: IR | D90: QA | G90: =A90 -> IR | H90: =IFERROR(VLOOKUP(G90,Verweis!$D:$F,3,FALSE),"") -> Asien | I90: =B90 -> 0 | K90: =D90 -> QA | L90: =IFERROR(VLOOKUP(K90,Verweis!$D:$F,3,FALSE),"") -> Asien | M90: =E90 -> 0
A91: IS | B91: 4805 | D91: RO | E91: 4631.8 | G91: =A91 -> IS | H91: =IFERROR(VLOOKUP(G91,Verweis!$D:$F,3,FALSE),"") -> Europa | I91: =B91 -> 4805 | K91: =D91 -> RO | L91: =IFERROR(VLOOKUP(K91,Verweis!$D:$F,3,FALSE),"") -> Europa | M91: =E91 -> 4631.8
A92: IT | D92: RS | G92: =A92 -> IT | H92: =IFERROR(VLOOKUP(G92,Verweis!$D:$F,3,FALSE),"") -> Europa | I92: =B92 -> 0 | K92: =D92 -> RS | L92: =IFERROR(VLOOKUP(K92,Verweis!$D:$F,3,FALSE),"") -> Europa | M92: =E92 -> 0
A93: JM | B93: 143952.37 | D93: RU | G93: =A93 -> JM | H93: =IFERROR(VLOOKUP(G93,Verweis!$D:$F,3,FALSE),"") -> Südamerika | I93: =B93 -> 143952.37 | K93: =D93 -> RU | L93: =IFERROR(VLOOKUP(K93,Verweis!$D:$F,3,FALSE),"") -> Europa | M93: =E93 -> 0
A94: JO | B94: 4173.09 | D94: SA | G94: =A94 -> JO | H94: =IFERROR(VLOOKUP(G94,Verweis!$D:$F,3,FALSE),"") -> Asien | I94: =B94 -> 4173.09 | K94: =D94 -> SA | L94: =IFERROR(VLOOKUP(K94,Verweis!$D:$F,3,FALSE),"") -> Asien | M94: =E94 -> 0
A95: JP | B95: 4462634.1 | D95: SE | G95: =A95 -> JP | H95: =IFERROR(VLOOKUP(G95,Verweis!$D:$F,3,FALSE),"") -> Asien | I95: =B95 -> 4462634.1 | K95: =D95 -> SE | L95: =IFERROR(VLOOKUP(K95,Verweis!$D:$F,3,FALSE),"") -> Europa | M95: =E95 -> 0
A96: KE | D96: SG | G96: =A96 -> KE | H96: =IFERROR(VLOOKUP(G96,Verweis!$D:$F,3,FALSE),"") -> Afrika | I96: =B96 -> 0 | K96: =D96 -> SG | L96: =IFERROR(VLOOKUP(K96,Verweis!$D:$F,3,FALSE),"") -> Asien | M96: =E96 -> 0
A97: KH | D97: SI | E97: 5755.13 | G97: =A97 -> KH | H97: =IFERROR(VLOOKUP(G97,Verweis!$D:$F,3,FALSE),"") -> Asien | I97: =B97 -> 0 | K97: =D97 -> SI | L97: =IFERROR(VLOOKUP(K97,Verweis!$D:$F,3,FALSE),"") -> Europa | M97: =E97 -> 5755.13
A98: KN | B98: 19240.32 | D98: SK | G98: =A98 -> KN | H98: =IFERROR(VLOOKUP(G98,Verweis!$D:$F,3,FALSE),"") -> Südamerika | I98: =B98 -> 19240.32 | K98: =D98 -> SK | L98: =IFERROR(VLOOKUP(K98,Verweis!$D:$F,3,FALSE),"") -> Europa | M98: =E98 -> 0
A99: KR | B99: 416866.56 | D99: SM | G99: =A99 -> KR | H99: =IFERROR(VLOOKUP(G99,Verweis!$D:$F,3,FALSE),"") -> Asien | I99: =B99 -> 416866.56 | K99: =D99 -> SM | L99: =IFERROR(VLOOKUP(K99,Verweis!$D:$F,3,FALSE),"") -> Europa | M99: =E99 -> 0
A100: KW | B100: 8666.81 | D100: SR | G100: =A100 -> KW | H100: =IFERROR(VLOOKUP(G100,Verweis!$D:$F,3,FALSE),"") -> Asien | I100: =B100 -> 8666.81 | K100: =D100 -> SR | L100: =IFERROR(VLOOKUP(K100,Verweis!$D:$F,3,FALSE),"") -> Südamerika | M100: =E100 -> 0
A101: KY | B101: 36078.46 | D101: SV | G101: =A101 -> KY | H101: =IFERROR(VLOOKUP(G101,Verweis!$D:$F,3,FALSE),"") | I101: =B101 -> 36078.46 | K101: =D101 -> SV | L101: =IFERROR(VLOOKUP(K101,Verweis!$D:$F,3,FALSE),"") -> Südamerika | M101: =E101 -> 0
A102: KZ | D102: TH | E102: 450964.66 | G102: =A102 -> KZ | H102: =IFERROR(VLOOKUP(G102,Verweis!$D:$F,3,FALSE),"") -> Asien | I102: =B102 -> 0 | K102: =D102 -> TH | L102: =IFERROR(VLOOKUP(K102,Verweis!$D:$F,3,FALSE),"") -> Asien | M102: =E102 -> 450964.66
...

Sheet Verweis
A1: Afghanistan | B1: AF | D1: =VLOOKUP(E1,$A:$B,2,FALSE) -> AF | E1: Afghanistan | F1: Asien
A2: Åland | B2: AX | D2: =VLOOKUP(E2,$A:$B,2,FALSE) -> AD | E2: Andorra | F2: Europa
A3: Albanien | B3: AL | D3: AE | E3: Vereinigte Arabische Emirate | F3: Asien
A4: Algerien | B4: DZ | D4: =VLOOKUP(E4,$A:$B,2,FALSE) -> AG | E4: Antigua und Barbuda | F4: Südamerika
A5: Amerikanisch-Samoa | B5: AS | D5: =VLOOKUP(E5,$A:$B,2,FALSE) -> AL | E5: Albanien | F5: Europa
A6: Andorra | B6: AD | D6: =VLOOKUP(E6,$A:$B,2,FALSE) -> AM | E6: Armenien | F6: Asien
A7: Angola | B7: AO | D7: =VLOOKUP(E7,$A:$B,2,FALSE) -> AN | E7: Niederländische Antillen | F7: Südamerika
A8: Anguilla | B8: AI | D8: =VLOOKUP(E8,$A:$B,2,FALSE) -> AO | E8: Angola | F8: Afrika
A9: Antarktis | B9: AQ | D9: =VLOOKUP(E9,$A:$B,2,FALSE) -> AO | E9: Angola | F9: Afrika
A10: Antigua und Barbuda | B10: AG | D10: =VLOOKUP(E10,$A:$B,2,FALSE) -> AR | E10: Argentinien | F10: Südamerika
A11: Argentinien | B11: AR | D11: =VLOOKUP(E11,$A:$B,2,FALSE) -> AT | E11: Österreich | F11: Europa
A12: Armenien | B12: AM | D12: =VLOOKUP(E12,$A:$B,2,FALSE) -> AU | E12: Australien | F12: Australien und Ozeanien
A13: Aruba | B13: AW | D13: =VLOOKUP(E13,$A:$B,2,FALSE) -> AW | E13: Aruba | F13: Südamerika
A14: Australien | B14: AU | D14: =VLOOKUP(E14,$A:$B,2,FALSE) -> AZ | E14: Aserbaidschan | F14: Asien
A15: Österreich | B15: AT | D15: =VLOOKUP(E15,$A:$B,2,FALSE) -> BA | E15: Bosnien und Herzegowina | F15: Europa
... A29: Bosnien und Herzegowina | B29: BA | D29: =VLOOKUP(E29,$A:$B,2,FALSE) -> BT | E29: Bhutan | F29: Asien
A30: Botswana | B30: BW | D30: BW | E30: Botsuana | F30: Afrika
A31: Bouvetinsel | B31: BV | D31: =VLOOKUP(E31,$A:$B,2,FALSE) -> BY | E31: Weißrussland | F31: Europa
A32: Brasilien | B32: BR | D32: =VLOOKUP(E32,$A:$B,2,FALSE) -> BZ | E32: Belize | F32: Südamerika
A33: Britisches Territorium im Indischen Ozean | B33: IO | D33: =VLOOKUP(E33,$A:$B,2,FALSE) -> CA | E33: Kanada | F33: Nordamerika
A34: Britische Jungferninseln | B34: VG | D34: CD | E34: Kongo, Republik | F34: Afrika
A35: Brunei | B35: BN | D35: =VLOOKUP(E35,$A:$B,2,FALSE) -> CF | E35: Zentralafrikanische Republik | F35: Afrika
A36: Bulgarien | B36: BG | D36: CG | E36: Kongo, Republik | F36: Afrika
A37: Burkina Faso | B37: BF | D37: CG | E37: Kongo, Republik | F37: Afrika
A38: Burundi | B38: BI | D38: =VLOOKUP(E38,$A:$B,2,FALSE) -> CH | E38: Schweiz | F38: Europa
A39: Kambodscha | B39: KH | D39: CI | E39: Elfenbeinküste (Côte d’Ivoire) (offiziell) | F39: Afrika
A40: Kamerun | B40: CM | D40: =VLOOKUP(E40,$A:$B,2,FALSE) -> CI | E40: Elfenbeinküste | F40: Afrika
A41: Kanada | B41: CA | D41: CL | E41: Chile (offiziell) | F41: Südamerika
A42: Kap Verde | B42: CV | D42: =VLOOKUP(E42,$A:$B,2,FALSE) -> CM | E42: Kamerun | F42: Afrika
A43: Kaimaninseln | B43: KY | D43: CN | E43: China (Volksrepublik) | F43: Asien
A44: Zentralafrikanische Republik | B44: CF | D44: CN | E44: China (Volksrepublik) | F44: Asien
A45: Tschad | B45: TD | D45: =VLOOKUP(E45,$A:$B,2,FALSE) -> CO | E45: Kolumbien | F45: Südamerika
A46: Chile | B46: CL | D46: =VLOOKUP(E46,$A:$B,2,FALSE) -> CR | E46: Costa Rica | F46: Südamerika
A47: China | B47: CN | D47: =VLOOKUP(E47,$A:$B,2,FALSE) -> CU | E47: Kuba | F47: Südamerika
A48: Weihnachtsinsel | B48: CX | D48: =VLOOKUP(E48,$A:$B,2,FALSE) -> CV | E48: Kap Verde | F48: Afrika
A49: Kokosinseln | B49: CC | D49: CW | E49: Curacao | F49: Südamerika
A50: Kolumbien | B50: CO | D50: =VLOOKUP(E50,$A:$B,2,FALSE) -> CY | E50: Zypern | F50: Asien
A51: Komoren | B51: KM | D51: CZ | E51: Tschechien | F51: Europa
A52: Cookinseln | B52: CK | D52: CZ | E52: Tschechien | F52: Europa
A53: Costa Rica | B53: CR | D53: =VLOOKUP(E53,$A:$B,2,FALSE) -> DE | E53: Deutschland | F53: Europa
A54: Kroatien | B54: HR | D54: =VLOOKUP(E54,$A:$B,2,FALSE) -> DJ | E54: Dschibuti | F54: Afrika
A55: Kuba | B55: CU | D55: =VLOOKUP(E55,$A:$B,2,FALSE) -> DK | E55: Dänemark | F55: Europa
A56: Curacao | B56: CW | D56: =VLOOKUP(E56,$A:$B,2,FALSE) -> DM | E56: Dominica | F56: Südamerika
A57: Zypern | B57: CY | D57: =VLOOKUP(E57,$A:$B,2,FALSE) -> DO | E57: Dominikanische Republik | F57: Südamerika
A58: Tschechische Republik | B58: CZ | D58: =VLOOKUP(E58,$A:$B,2,FALSE) -> DZ | E58: Algerien | F58: Afrika
A59: Demokratische Republik Kongo | B59: CD | D59: =VLOOKUP(E59,$A:$B,2,FALSE) -> EC | E59: Ecuador | F59: Südamerika
A60: Dänemark | B60: DK | D60: =VLOOKUP(E60,$A:$B,2,FALSE) -> EE | E60: Estland | F60: Europa
A61: Dschibuti | B61: DJ | D61: =VLOOKUP(E61,$A:$B,2,FALSE) -> EG | E61: Ägypten | F61: Afrika
A62: Dominica | B62: DM | D62: =VLOOKUP(E62,$A:$B,2,FALSE) -> ER | E62: Eritrea | F62: Afrika
A63: Dominikanische Republik | B63: DO | D63: =VLOOKUP(E63,$A:$B,2,FALSE) -> ES | E63: Spanien | F63: Europa
A64: Osttimor | B64: TL | D64: =VLOOKUP(E64,$A:$B,2,FALSE) -> ET | E64: Äthiopien | F64: Afrika
... A68: Äquatorialguinea | B68: GQ | D68: =VLOOKUP(E68,$A:$B,2,FALSE) -> GA | E68: Gabun | F68: Afrika
A69: Eritrea | B69: ER | D69: GB | E69: Vereinigtes Königreich | F69: Europa
A70: Estland | B70: EE | D70: GB | E70: Vereintes Königreich | F70: Europa
A71: Äthiopien | B71: ET | D71: =VLOOKUP(E71,$A:$B,2,FALSE) -> GD | E71: Grenada | F71: Südamerika
A72: Falkland-Inseln | B72: FK | D72: =VLOOKUP(E72,$A:$B,2,FALSE) -> GE | E72: Georgien | F72: Asien
A73: Färöer-Inseln | B73: FO | D73: GF | E73: Französisch-Guyana | F73: Südamerika
A74: Fidschi | B74: FJ | D74: =VLOOKUP(E74,$A:$B,2,FALSE) -> GH | E74: Ghana | F74: Afrika
A75: Finnland | B75: FI | D75: GI | E75: Gibraltar | F75: Europa
A76: Frankreich | B76: FR | D76: =VLOOKUP(E76,$A:$B,2,FALSE) -> GM | E76: Gambia | F76: Afrika
A77: Französisch-Guayana | B77: GF | D77: =VLOOKUP(E77,$A:$B,2,FALSE) -> GN | E77: Guinea | F77: Afrika
A78: Französisch-Polynesien | B78: PF | D78: GP | E78: Guadeloupe | F78: Südamerika
A79: Französische Süd- und Antarktisgebiete | B79: TF | D79: =VLOOKUP(E79,$A:$B,2,FALSE) -> GQ | E79: Äquatorialguinea | F79: Afrika
A80: Gabun | B80: GA | D80: =VLOOKUP(E80,$A:$B,2,FALSE) -> GR | E80: Griechenland | F80: Europa
A81: Gambia | B81: GM | D81: =VLOOKUP(E81,$A:$B,2,FALSE) -> GT | E81: Guatemala | F81: Südamerika
A82: Georgien | B82: GE | D82: =VLOOKUP(E82,$A:$B,2,FALSE) -> GW | E82: Guinea-Bissau | F82: Afrika
A83: Deutschland | B83: DE | D83: =VLOOKUP(E83,$A:$B,2,FALSE) -> GY | E83: Guyana | F83: Südamerika
A84: Ghana | B84: GH | D84: HK | E84: Hongkong | F84: Asien
A85: Gibraltar | B85: GI | D85: =VLOOKUP(E85,$A:$B,2,FALSE) -> HN | E85: Honduras | F85: Südamerika
A86: Griechenland | B86: GR | D86: =VLOOKUP(E86,$A:$B,2,FALSE) -> HR | E86: Kroatien | F86: Europa
A87: Grönland | B87: GL | D87: =VLOOKUP(E87,$A:$B,2,FALSE) -> HT | E87: Haiti | F87: Südamerika
A88: Grenada | B88: GD | D88: =VLOOKUP(E88,$A:$B,2,FALSE) -> HU | E88: Ungarn | F88: Europa
A89: Guadeloupe | B89: GP | D89: =VLOOKUP(E89,$A:$B,2,FALSE) -> ID | E89: Indonesien | F89: Asien
A90: Guam | B90: GU | D90: =VLOOKUP(E90,$A:$B,2,FALSE) -> IE | E90: Irland | F90: Europa
A91: Guatemala | B91: GT | D91: =VLOOKUP(E91,$A:$B,2,FALSE) -> IL | E91: Israel | F91: Asien
A92: Guernsey | B92: GG | D92: =VLOOKUP(E92,$A:$B,2,FALSE) -> IN | E92: Indien | F92: Asien
A93: Guinea | B93: GN | D93: =VLOOKUP(E93,$A:$B,2,FALSE) -> IQ | E93: Irak | F93: Asien
A94: Guinea-Bissau | B94: GW | D94: =VLOOKUP(E94,$A:$B,2,FALSE) -> IR | E94: Iran | F94: Asien
A95: Guyana | B95: GY | D95: =VLOOKUP(E95,$A:$B,2,FALSE) -> IS | E95: Island | F95: Europa
A96: Haiti | B96: HT | D96: =VLOOKUP(E96,$A:$B,2,FALSE) -> IT | E96: Italien | F96: Europa
... A105: Irak | B105: IQ | D105: =VLOOKUP(E105,$A:$B,2,FALSE) -> KN | E105: St. Kitts und Nevis | F105: Südamerika
A106: Irland | B106: IE | D106: KR | E106: Korea, Republik (Südkorea) | F106: Asien
A107: Isle of Man | B107: IM | D107: KR | E107: Korea, Republik (Südkorea) | F107: Asien
A108: Israel | B108: IL | D108: =VLOOKUP(E108,$A:$B,2,FALSE) -> KW | E108: Kuwait | F108: Asien
A109: Italien | B109: IT | D109: =VLOOKUP(E109,$A:$B,2,FALSE) -> KZ | E109: Kasachstan | F109: Asien
A110: Elfenbeinküste | B110: CI | D110: =VLOOKUP(E110,$A:$B,2,FALSE) -> LA | E110: Laos | F110: Asien
A111: Jamaika | B111: JM | D111: =VLOOKUP(E111,$A:$B,2,FALSE) -> LB | E111: Libanon | F111: Asien
A112: Japan | B112: JP | D112: =VLOOKUP(E112,$A:$B,2,FALSE) -> LC | E112: St. Lucia | F112: Südamerika
A113: Jersey | B113: JE | D113: =VLOOKUP(E113,$A:$B,2,FALSE) -> LI | E113: Liechtenstein | F113: Europa
A114: Jordanien | B114: JO | D114: =VLOOKUP(E114,$A:$B,2,FALSE) -> LK | E114: Sri Lanka | F114: Asien
A115: Kasachstan | B115: KZ | D115: =VLOOKUP(E115,$A:$B,2,FALSE) -> LR | E115: Liberia | F115: Afrika
A116: Kenia | B116: KE | D116: =VLOOKUP(E116,$A:$B,2,FALSE) -> LS | E116: Lesotho | F116: Afrika
A117: Kiribati | B117: KI | D117: =VLOOKUP(E117,$A:$B,2,FALSE) -> LT | E117: Litauen | F117: Europa
A118: Kosovo | B118: XK | D118: =VLOOKUP(E118,$A:$B,2,FALSE) -> LU | E118: Luxemburg | F118: Europa
A119: Kuwait | B119: KW | D119: =VLOOKUP(E119,$A:$B,2,FALSE) -> LV | E119: Lettland | F119: Europa
... A128: Litauen | B128: LT | D128: =VLOOKUP(E128,$A:$B,2,FALSE) -> ML | E128: Mali | F128: Afrika
A129: Luxemburg | B129: LU | D129: MM | E129: Myanmar | F129: Asien
A130: Macao | B130: MO | D130: =VLOOKUP(E130,$A:$B,2,FALSE) -> MN | E130: Mongolei | F130: Asien
A131: Mazedonien | B131: MK | D131: =VLOOKUP(E131,$A:$B,2,FALSE) -> MR | E131: Mauretanien | F131: Afrika
A132: Madagaskar | B132: MG | D132: =VLOOKUP(E132,$A:$B,2,FALSE) -> MT | E132: Malta | F132: Europa
...

Sheet Länderkürzel
A1: AF | B1: Afghanistan Afghanistan
A2: AX | B2: Åland Islands Åland Islands
A3: AL | B3: Albania Albania
A4: DZ | B4: Algeria Algeria
A5: AS | B5: American Samoa American Samoa
A6: AD | B6: Andorra Andorra
A7: AO | B7: Angola Angola
A8: AI | B8: Anguilla Anguilla
A9: AQ | B9: Antarctica Antarctica
A10: AG | B10: Antigua and Barbuda Antigua and Barbuda
A11: AR | B11: Argentina Argentina
A12: AM | B12: Armenia Armenia
... A249: ZW | B249: Zimbabwe Zimbabwe
