Workbook
Name Datenschnitt_RedBull: #N/A
Name Zeitachse_DimSendungsdatum: #N/A

Sheet VERW
A1: Status KOOPERATION: | D1: Status VERTRAG:
A2: erobern | D2: gültiger Vertrag
A3: ausbauen | D3: in Verhandlung
A4: halten | D4: kein Vertrag
A5: verringern
A6: distanzieren

Sheet ALT
H4: gültiger Vertrag | I4: kein Vertrag | J4: kein Vertrag | K4: kein Vertrag | L4: kein Vertrag | M4: kein Vertrag | N4: kein Vertrag | O4: kein Vertrag | P4: kein Vertrag | Q4: kein Vertrag | R4: kein Vertrag | S4: kein Vertrag | T4: kein Vertrag | U4: kein Vertrag | V4: kein Vertrag | W4: kein Vertrag | X4: kein Vertrag | Y4: kein Vertrag | Z4: kein Vertrag | AA4: kein Vertrag | AB4: kein Vertrag | AC4: kein Vertrag | AD4: kein Vertrag | AE4: kein Vertrag | AF4: kein Vertrag | AG4: kein Vertrag | AH4: kein Vertrag | AI4: kein Vertrag | AJ4: kein Vertrag | AK4: kein Vertrag | AL4: kein Vertrag | AM4: kein Vertrag | AN4: kein Vertrag | AO4: kein Vertrag | AP4: kein Vertrag | AQ4: kein Vertrag | AR4: kein Vertrag | AS4: kein Vertrag | AT4: kein Vertrag
H5: Kerry Logistics | I5: Rodair | J5: Total Logistics | K5: Mallory | L5: Fracht USA | M5: Lynden | N5: Unitrans | O5: BTX | P5: Landstar | Q5: Delfino | R5: Modaltrade | S5: Transcargo | T5: National Air Cargo | U5: Morrison Express | V5: Beweship /NTG | W5: BBA | X5: Debeaux | Y5: Cargobay AG | Z5: Balnak | AA5: Borusan | AB5: Partex Aeromarine | AC5: Weida Freight | AD5: Parisi | AE5: TCI | AF5: Able Logistics | AG5: Modern Freight | AH5: Skybridge | AI5: Jeena | AJ5: Indev | AK5: Yudhanusa | AL5: Bar Baran Iran | AM5: Damaco | AN5: Everstar | AO5: FDI | AP5: Northline | AQ5: Fliway | AR5: Prima Egypt | AS5: EFL Expolanca | AT5: NEU
H7: halten | T7: verringern | U7: ausbauen | AC7: ausbauen | AI7: ausbauen | AS7: distanzieren | AT7: erobern
B9: NORTH AMERICA | D9: Canada | F9: erobern | H9: 1 | I9: 2 | J9: 2
D10: USA | F10: ausbauen | H10: 1 | K10: 2 | L10: 2 | M10: 2 | N10: 2 | O10: 2 | P10: 2
B11: SOUTH AMERICA | D11: Argentina | F11: halten | Q11: 2
D12: Brazil | F12: erobern | H12: 1 | P12: 2
D13: Chile | F13: erobern | H13: 1 | R13: 2
D14: Mexico | F14: erobern | H14: 1
D15: Uruguay | F15: erobern | H15: 1 | S15: 2
B16: EUROPE | D16: Germany | F16: erobern | T16: 2 | U16: 1
D17: Finland | F17: erobern | V17: 1
D18: France | F18: erobern | W18: 2 | X18: 2 | AF18: 3
D19: Sweitzerland | F19: erobern | Y19: 1
D20: Italy | F20: erobern | H20: 1
D21: Turkey | F21: erobern | Z21: 2 | AA21: 1
B22: ASIA | D22: Bangladesh | F22: erobern | AB22: 1
D23: China | F23: ausbauen | H23: 1 | AC23: 2 | AD23: 2 | AE23: 3
D24: Emirates | F24: erobern | AF24: 3 | AG24: 3 | AH24: 3 | AS24: 3
D25: India | F25: ausbauen | H25: 2 | AI25: 1 | AJ25: 3
D26: Indonesia | F26: erobern | H26: 1 | AK26: 2
D27: Iran | F27: erobern | AL27: 1
D28: Japan | F28: erobern | H28: 1
D29: Qatar | F29: erobern | AM29: 1
D30: South Korea | F30: erobern | H30: 1
D31: Taiwan | F31: erobern | H31: 1
D32: Vietnam | F32: erobern | AN32: 2 | AO32: 2
D33: Australia | F33: erobern | H33: 1 | AP33: 2
D34: New Zealand | F34: erobern | AQ34: 1
D35: Egypt | F35: erobern | AR35: 1
D36: South Africa | F36: erobern | AS36: 3 | AT36: 1

Sheet OCEAN
J4: in Verhandlung | L4: gültiger Vertrag | M4: gültiger Vertrag | N4: in Verhandlung | P4: gültiger Vertrag | Q4: gültiger Vertrag | R4: kein Vertrag | U4: gültiger Vertrag | V4: in Verhandlung | W4: kein Vertrag | Y4: gültiger Vertrag | Z4: gültiger Vertrag | AB4: in Verhandlung | AE4: gültiger Vertrag | AF4: gültiger Vertrag | AI4: gültiger Vertrag | AN4: gültiger Vertrag | AQ4: gültiger Vertrag | AR4: in Verhandlung | AU4: in Verhandlung
J5: Kerry Logistics | L5: Mallory | M5: Unitrans | N5: Rush Cargo | O5: Delfino | P5: Transcargo | Q5: BBA | R5: Debeaux | S5: Balnak | T5: Borusan | U5: Weida Freight | V5: Able Logistics (Kerry) | W5: Modern Freight | X5: Skybridge | Y5: Jeena | Z5: Yudhanusa | AB5: FDI (Kerry) | AC5: Northline | AD5: Fliway | AE5: Marin | AF5: Prima Egypt | AG5: EFL Expolanca | AI5: Nexus | AJ5: Damaco | AK5: Fracht USA | AL5: Total Logistics | AM5: Lynden | AN5: BTX | AO5: Landstar | AP5: Morrison Express | AQ5: Beweship /NTG | AR5: Cargobay AG | AS5: Partex Aeromarine | AT5: TCI | AU5: Kerry Indev | AV5: Parisi | AW5: Rodair | AX5: Modaltrade | AY5: National Air Cargo | AZ5: Bar Baran Iran | BA5: Everstar
J7: ausbauen | L7: ausbauen | M7: ausbauen | N7: halten | O7: halten | P7: halten | Q7: halten | R7: halten | S7: halten | T7: halten | U7: ausbauen | V7: ausbauen | W7: halten | X7: halten | Y7: halten | Z7: halten | AB7: ausbauen | AC7: halten | AD7: halten | AF7: halten | AG7: halten | AI7: halten | AJ7: halten | AU7: ausbauen | AV7: verringern | AW7: distanzieren | AX7: distanzieren | AY7: distanzieren | AZ7: distanzieren | BA7: distanzieren
G8: Import | H8: Export
A9: CA | B9: North America | C9: Canada | E9: halten | G9: =IFERROR(VLOOKUP(A9,DWH!$A$12:$B$1048576,2,FALSE),"") -> 6840979.8 | H9: =IFERROR(VLOOKUP(A9,DWH!$D$12:$E$1048576,2,FALSE),"") -> 34433.01 | J9: 1
A10: US | C10: USA | E10: halten | G10: =IFERROR(VLOOKUP(A10,DWH!$A$12:$B$1048576,2,FALSE),"") -> 10479363 | H10: =IFERROR(VLOOKUP(A10,DWH!$D$12:$E$1048576,2,FALSE),"") -> 82496.39 | J10: 1 | L10: 1 | M10: 1
A11: AR | B11: South America | C11: Argentina | E11: halten | G11: =IFERROR(VLOOKUP(A11,DWH!$A$12:$B$1048576,2,FALSE),"") -> 571972.45 | H11: =IFERROR(VLOOKUP(A11,DWH!$D$12:$E$1048576,2,FALSE),"") -> 123514.75 | N11: 1 | O11: 2
A12: BR | C12: Brazil | E12: halten | G12: =IFERROR(VLOOKUP(A12,DWH!$A$12:$B$1048576,2,FALSE),"") -> 5105540.7 | H12: =IFERROR(VLOOKUP(A12,DWH!$D$12:$E$1048576,2,FALSE),"") -> 4958.02 | J12: 1
A13: CL | C13: Chile | E13: halten | G13: =IFERROR(VLOOKUP(A13,DWH!$A$12:$B$1048576,2,FALSE),"") -> 1575445.5 | H13: =IFERROR(VLOOKUP(A13,DWH!$D$12:$E$1048576,2,FALSE),"") -> 63078.91 | J13: 1 | AI13: 3
A14: MX | C14: Mexico | E14: halten | G14: =IFERROR(VLOOKUP(A14,DWH!$A$12:$B$1048576,2,FALSE),"") -> 265477.17 | H14: =IFERROR(VLOOKUP(A14,DWH!$D$12:$E$1048576,2,FALSE),"") -> 10263 | J14: 1
A15: UY | C15: Uruguay | E15: halten | G15: =IFERROR(VLOOKUP(A15,DWH!$A$12:$B$1048576,2,FALSE),"") -> 78071.88 | H15: =IFERROR(VLOOKUP(A15,DWH!$D$12:$E$1048576,2,FALSE),"") -> 0 | J15: 1 | P15: 2
A16: DE | B16: Europe | C16: Germany | E16: halten | G16: =IFERROR(VLOOKUP(A16,DWH!$A$12:$B$1048576,2,FALSE),"") -> 823708.3 | H16: =IFERROR(VLOOKUP(A16,DWH!$D$12:$E$1048576,2,FALSE),"") -> 1186821.8 | J16: 1
A17: FR | C17: France | E17: halten | G17: =IFERROR(VLOOKUP(A17,DWH!$A$12:$B$1048576,2,FALSE),"") -> 68035 | H17: =IFERROR(VLOOKUP(A17,DWH!$D$12:$E$1048576,2,FALSE),"") -> 12804.87 | Q17: 1 | R17: 2
A18: CH | C18: Switzerland | E18: halten | G18: =IFERROR(VLOOKUP(A18,DWH!$A$12:$B$1048576,2,FALSE),"") -> 231791.54 | H18: =IFERROR(VLOOKUP(A18,DWH!$D$12:$E$1048576,2,FALSE),"") -> 18690780 | J18: 1
A19: IT | C19: Italy | E19: halten | G19: =IFERROR(VLOOKUP(A19,DWH!$A$12:$B$1048576,2,FALSE),"") -> 0 | H19: =IFERROR(VLOOKUP(A19,DWH!$D$12:$E$1048576,2,FALSE),"") -> 0 | J19: 1
A20: TR | C20: Turkey | E20: halten | G20: =IFERROR(VLOOKUP(A20,DWH!$A$12:$B$1048576,2,FALSE),"") -> 106228.1 | H20: =IFERROR(VLOOKUP(A20,DWH!$D$12:$E$1048576,2,FALSE),"") -> 27873.16 | S20: 2 | T20: 1
A21: BD | B21: Asia | C21: Bangladesh | E21: halten | G21: =IFERROR(VLOOKUP(A21,DWH!$A$12:$B$1048576,2,FALSE),"") -> 0 | H21: =IFERROR(VLOOKUP(A21,DWH!$D$12:$E$1048576,2,FALSE),"") -> 0 | J21: 1
A22: CN | C22: China | E22: ausbauen | G22: =IFERROR(VLOOKUP(A22,DWH!$A$12:$B$1048576,2,FALSE),"") -> 302865.4 | H22: =IFERROR(VLOOKUP(A22,DWH!$D$12:$E$1048576,2,FALSE),"") -> 3063407.6 | J22: 1 | U22: 2
A23: AE | C23: Emirates | E23: halten | G23: =IFERROR(VLOOKUP(A23,DWH!$A$12:$B$1048576,2,FALSE),"") -> 16593.76 | H23: =IFERROR(VLOOKUP(A23,DWH!$D$12:$E$1048576,2,FALSE),"") -> 0 | J23: 1 | V23: 1 | W23: 3 | X23: 3 | AG23: 2
A24: IN | C24: India | E24: ausbauen | G24: =IFERROR(VLOOKUP(A24,DWH!$A$12:$B$1048576,2,FALSE),"") -> 3335266.9 | H24: =IFERROR(VLOOKUP(A24,DWH!$D$12:$E$1048576,2,FALSE),"") -> 310135.56 | J24: 1 | Y24: 2
A25: ID | C25: Indonesia | E25: halten | G25: =IFERROR(VLOOKUP(A25,DWH!$A$12:$B$1048576,2,FALSE),"") -> 33552.36 | H25: =IFERROR(VLOOKUP(A25,DWH!$D$12:$E$1048576,2,FALSE),"") -> 10479.88 | J25: 1 | Z25: 2
A26: IR | C26: Iran | E26: distanzieren | G26: =IFERROR(VLOOKUP(A26,DWH!$A$12:$B$1048576,2,FALSE),"") -> 0 | H26: =IFERROR(VLOOKUP(A26,DWH!$D$12:$E$1048576,2,FALSE),"") -> 0 | AZ26: 1
A27: JP | C27: Japan | E27: halten | G27: =IFERROR(VLOOKUP(A27,DWH!$A$12:$B$1048576,2,FALSE),"") -> 4462634.1 | H27: =IFERROR(VLOOKUP(A27,DWH!$D$12:$E$1048576,2,FALSE),"") -> 1076.61 | J27: 1
A28: QA | C28: Qatar | E28: halten | G28: =IFERROR(VLOOKUP(A28,DWH!$A$12:$B$1048576,2,FALSE),"") -> 6525.17 | H28: =IFERROR(VLOOKUP(A28,DWH!$D$12:$E$1048576,2,FALSE),"") -> 0 | V28: 3 | AJ28: 1
A29: KR | C29: South Korea | E29: halten | G29: =IFERROR(VLOOKUP(A29,DWH!$A$12:$B$1048576,2,FALSE),"") -> 416866.56 | H29: =IFERROR(VLOOKUP(A29,DWH!$D$12:$E$1048576,2,FALSE),"") -> 29492.33 | J29: 1
A30: TW | C30: Taiwan | E30: halten | G30: =IFERROR(VLOOKUP(A30,DWH!$A$12:$B$1048576,2,FALSE),"") -> 13644.55 | H30: =IFERROR(VLOOKUP(A30,DWH!$D$12:$E$1048576,2,FALSE),"") -> 16934.26 | J30: 1
A31: VN | C31: Vietnam | E31: ausbauen | G31: =IFERROR(VLOOKUP(A31,DWH!$A$12:$B$1048576,2,FALSE),"") -> 45792.72 | H31: =IFERROR(VLOOKUP(A31,DWH!$D$12:$E$1048576,2,FALSE),"") -> 45557.14 | AB31: 1
A32: AU | B32: Australia | C32: Australia | E32: halten | G32: =IFERROR(VLOOKUP(A32,DWH!$A$12:$B$1048576,2,FALSE),"") -> 4895472.8 | H32: =IFERROR(VLOOKUP(A32,DWH!$D$12:$E$1048576,2,FALSE),"") -> 1977 | J32: 1 | AC32: 2
A33: NZ | C33: New Zealand | E33: halten | G33: =IFERROR(VLOOKUP(A33,DWH!$A$12:$B$1048576,2,FALSE),"") -> 890658.63 | H33: =IFERROR(VLOOKUP(A33,DWH!$D$12:$E$1048576,2,FALSE),"") -> 419 | J33: 1 | AD33: 2 | AE33: 3
A34: EG | B34: Africa | C34: Egypt | E34: halten | G34: =IFERROR(VLOOKUP(A34,DWH!$A$12:$B$1048576,2,FALSE),"") -> 36244.14 | H34: =IFERROR(VLOOKUP(A34,DWH!$D$12:$E$1048576,2,FALSE),"") -> 375 | AF34: 1
A35: ZA | C35: South Africa | E35: halten | G35: =IFERROR(VLOOKUP(A35,DWH!$A$12:$B$1048576,2,FALSE),"") -> 3599052 | H35: =IFERROR(VLOOKUP(A35,DWH!$D$12:$E$1048576,2,FALSE),"") -> 283145.94 | AG35: 1
B37: REST | C37: North America | G37: =DWH!I7-SUM(G9:G10) -> 0 | H37: =DWH!M7-SUM(H9:H10) -> 0
C38: South America | G38: =DWH!I8-SUM(G11:G15) -> 1826633.4 | H38: =DWH!M8-SUM(H11:H15) -> 7767.57
C39: Europe | G39: =DWH!I6-SUM(G16:G20) -> 3675560.5 | H39: =DWH!M6-SUM(H16:H20) -> 26208776
C40: Asia | G40: =DWH!I4-SUM(G21:G31) -> 435151 | H40: =DWH!M4-SUM(H21:H31) -> 609843.06
C41: Oceania | G41: =DWH!I5-SUM(G32:G33) -> 3037.84 | H41: =DWH!M5-SUM(H32:H33) -> 20358.85
C42: Africa | G42: =DWH!I3-SUM(G34:G35) -> 583938.89 | H42: =DWH!M3-SUM(H34:H35) -> 0

Sheet DWH
A1: Import | D1: Export | G1: ÜBERTRAG IMPORT | K1: ÜBERTRAG EXPORT
H3: Afrika | I3: =SUMIF(H12:H1000,"Afrika",I12:I1000) -> 4219235 | L3: Afrika | M3: =SUMIF(L12:L1000,"Afrika",M12:M1000) -> 283520.94
H4: Asien | I4: =SUMIF(H12:H1000,"Asien",I12:I1000) -> 9068892.6 | L4: Asien | M4: =SUMIF(L12:L1000,"Asien",M12:M1000) -> 4086926.5
H5: Australien | I5: =SUMIF(H12:H1000,"Australien und Ozeanien",I12:I1000) -> 5789169.2 | L5: Australien | M5: =SUMIF(L12:L1000,"Australien und Ozeanien",M12:M1000) -> 22754.85
H6: Europa | I6: =SUMIF(H12:H1000,"Europa",I12:I1000) -> 4905323.5 | L6: Europa | M6: =SUMIF(L12:L1000,"Europa",M12:M1000) -> 46127056
A7: Kostenstellen | B7: GB Ocean | D7: Kostenstellen | E7: GB Ocean | H7: Nordamerika | I7: =SUMIF(H12:H1000,"Nordamerika",I12:I1000) -> 17320343 | L7: Nordamerika | M7: =SUMIF(L12:L1000,"Nordamerika",M12:M1000) -> 116929.4
A8: JahrMonat | B8: Alle JahrMonat | D8: JahrMonat | E8: Alle JahrMonat | H8: Südamerika | I8: =SUMIF(H12:H1000,"Südamerika",I12:I1000) -> 9423141.1 | L8: Südamerika | M8: =SUMIF(L12:L1000,"Südamerika",M12:M1000) -> 209582.25
A10: Umsatz KTR | D10: Umsatz KTR
A11: Empfaengerland | B11: Ergebnis | D11: AbsenderLand | E11: Ergebnis | G11: Länderkürzel | H11: Kontinent | I11: Umsatz | K11: Länderkürzel | L11: Kontinent | M11: Umsatz
G12: =A12 -> 0 | H12: =IFERROR(VLOOKUP(G12,Verweis!$D:$F,3,FALSE),"") | I12: =B12 -> 0 | K12: =D12 -> 0 | L12: =IFERROR(VLOOKUP(K12,Verweis!$D:$F,3,FALSE),"") | M12: =E12 -> 0
A13: AD | D13: AE | G13: =A13 -> AD | H13: =IFERROR(VLOOKUP(G13,Verweis!$D:$F,3,FALSE),"") -> Europa | I13: =B13 -> 0 | K13: =D13 -> AE | L13: =IFERROR(VLOOKUP(K13,Verweis!$D:$F,3,FALSE),"") -> Asien | M13: =E13 -> 0
A14: AE | B14: 16593.76 | D14: AL | G14: =A14 -> AE | H14: =IFERROR(VLOOKUP(G14,Verweis!$D:$F,3,FALSE),"") -> Asien | I14: =B14 -> 16593.76 | K14: =D14 -> AL | L14: =IFERROR(VLOOKUP(K14,Verweis!$D:$F,3,FALSE),"") -> Europa | M14: =E14 -> 0
A15: AF | D15: AM | G15: =A15 -> AF | H15: =IFERROR(VLOOKUP(G15,Verweis!$D:$F,3,FALSE),"") -> Asien | I15: =B15 -> 0 | K15: =D15 -> AM | L15: =IFERROR(VLOOKUP(K15,Verweis!$D:$F,3,FALSE),"") -> Asien | M15: =E15 -> 0
A16: AG | B16: 9900.81 | D16: AR | E16: 123514.75 | G16: =A16 -> AG | H16: =IFERROR(VLOOKUP(G16,Verweis!$D:$F,3,FALSE),"") -> Südamerika | I16: =B16 -> 9900.81 | K16: =D16 -> AR | L16: =IFERROR(VLOOKUP(K16,Verweis!$D:$F,3,FALSE),"") -> Südamerika | M16: =E16 -> 123514.75
A17: AL | B17: 0 | D17: AT | E17: 26147010 | G17: =A17 -> AL | H17: =IFERROR(VLOOKUP(G17,Verweis!$D:$F,3,FALSE),"") -> Europa | I17: =B17 -> 0 | K17: =D17 -> AT | L17: =IFERROR(VLOOKUP(K17,Verweis!$D:$F,3,FALSE),"") -> Europa | M17: =E17 -> 26147010
A18: AM | B18: 4404.99 | D18: AU | E18: 1977 | G18: =A18 -> AM | H18: =IFERROR(VLOOKUP(G18,Verweis!$D:$F,3,FALSE),"") -> Asien | I18: =B18 -> 4404.99 | K18: =D18 -> AU | L18: =IFERROR(VLOOKUP(K18,Verweis!$D:$F,3,FALSE),"") -> Australien und Ozeanien | M18: =E18 -> 1977
A19: AN | D19: AZ | G19: =A19 -> AN | H19: =IFERROR(VLOOKUP(G19,Verweis!$D:$F,3,FALSE),"") -> Südamerika | I19: =B19 -> 0 | K19: =D19 -> AZ | L19: =IFERROR(VLOOKUP(K19,Verweis!$D:$F,3,FALSE),"") -> Asien | M19: =E19 -> 0
A20: AO | B20: 2549 | D20: BA | G20: =A20 -> AO | H20: =IFERROR(VLOOKUP(G20,Verweis!$D:$F,3,FALSE),"") -> Afrika | I20: =B20 -> 2549 | K20: =D20 -> BA | L20: =IFERROR(VLOOKUP(K20,Verweis!$D:$F,3,FALSE),"") -> Europa | M20: =E20 -> 0
A21: AR | B21: 571972.45 | D21: BD | G21: =A21 -> AR | H21: =IFERROR(VLOOKUP(G21,Verweis!$D:$F,3,FALSE),"") -> Südamerika | I21: =B21 -> 571972.45 | K21: =D21 -> BD | L21: =IFERROR(VLOOKUP(K21,Verweis!$D:$F,3,FALSE),"") -> Asien | M21: =E21 -> 0
A22: AT | B22: 3728778 | D22: BE | E22: 6326 | G22: =A22 -> AT | H22: =IFERROR(VLOOKUP(G22,Verweis!$D:$F,3,FALSE),"") -> Europa | I22: =B22 -> 3728778 | K22: =D22 -> BE | L22: =IFERROR(VLOOKUP(K22,Verweis!$D:$F,3,FALSE),"") -> Europa | M22: =E22 -> 6326
A23: AU | B23: 4895472.8 | D23: BG | G23: =A23 -> AU | H23: =IFERROR(VLOOKUP(G23,Verweis!$D:$F,3,FALSE),"") -> Australien und Ozeanien | I23: =B23 -> 4895472.8 | K23: =D23 -> BG | L23: =IFERROR(VLOOKUP(K23,Verweis!$D:$F,3,FALSE),"") -> Europa | M23: =E23 -> 0
A24: AW | B24: 25452.78 | D24: BM | G24: =A24 -> AW | H24: =IFERROR(VLOOKUP(G24,Verweis!$D:$F,3,FALSE),"") -> Südamerika | I24: =B24 -> 25452.78 | K24: =D24 -> BM | L24: =IFERROR(VLOOKUP(K24,Verweis!$D:$F,3,FALSE),"") -> Südamerika | M24: =E24 -> 0
A25: AZ | B25: 20787 | D25: BN | G25: =A25 -> AZ | H25: =IFERROR(VLOOKUP(G25,Verweis!$D:$F,3,FALSE),"") -> Asien | I25: =B25 -> 20787 | K25: =D25 -> BN | L25: =IFERROR(VLOOKUP(K25,Verweis!$D:$F,3,FALSE),"") -> Asien | M25: =E25 -> 0
A26: BA | D26: BR | E26: 4958.02 | G26: =A26 -> BA | H26: =IFERROR(VLOOKUP(G26,Verweis!$D:$F,3,FALSE),"") -> Europa | I26: =B26 -> 0 | K26: =D26 -> BR | L26: =IFERROR(VLOOKUP(K26,Verweis!$D:$F,3,FALSE),"") -> Südamerika | M26: =E26 -> 4958.02
A27: BB | B27: 5630 | D27: BY | G27: =A27 -> BB | H27: =IFERROR(VLOOKUP(G27,Verweis!$D:$F,3,FALSE),"") -> Südamerika | I27: =B27 -> 5630 | K27: =D27 -> BY | L27: =IFERROR(VLOOKUP(K27,Verweis!$D:$F,3,FALSE),"") -> Europa | M27: =E27 -> 0
A28: BD | D28: CA | E28: 34433.01 | G28: =A28 -> BD | H28: =IFERROR(VLOOKUP(G28,Verweis!$D:$F,3,FALSE),"") -> Asien | I28: =B28 -> 0 | K28: =D28 -> CA | L28: =IFERROR(VLOOKUP(K28,Verweis!$D:$F,3,FALSE),"") -> Nordamerika | M28: =E28 -> 34433.01
A29: BE | B29: 180 | D29: CH | E29: 18690780 | G29: =A29 -> BE | H29: =IFERROR(VLOOKUP(G29,Verweis!$D:$F,3,FALSE),"") -> Europa | I29: =B29 -> 180 | K29: =D29 -> CH | L29: =IFERROR(VLOOKUP(K29,Verweis!$D:$F,3,FALSE),"") -> Europa | M29: =E29 -> 18690780
A30: BG | D30: CL | E30: 63078.91 | G30: =A30 -> BG | H30: =IFERROR(VLOOKUP(G30,Verweis!$D:$F,3,FALSE),"") -> Europa | I30: =B30 -> 0 | K30: =D30 -> CL | L30: =IFERROR(VLOOKUP(K30,Verweis!$D:$F,3,FALSE),"") -> Südamerika | M30: =E30 -> 63078.91
A31: BH | B31: 3942.3 | D31: CN | E31: 3063407.6 | G31: =A31 -> BH | H31: =IFERROR(VLOOKUP(G31,Verweis!$D:$F,3,FALSE),"") -> Asien | I31: =B31 -> 3942.3 | K31: =D31 -> CN | L31: =IFERROR(VLOOKUP(K31,Verweis!$D:$F,3,FALSE),"") -> Asien | M31: =E31 -> 3063407.6
A32: BJ | D32: CY | G32: =A32 -> BJ | H32: =IFERROR(VLOOKUP(G32,Verweis!$D:$F,3,FALSE),"") -> Afrika | I32: =B32 -> 0 | K32: =D32 -> CY | L32: =IFERROR(VLOOKUP(K32,Verweis!$D:$F,3,FALSE),"") -> Asien | M32: =E32 -> 0
A33: BM | B33: 27786.16 | D33: CZ | E33: 23266.46 | G33: =A33 -> BM | H33: =IFERROR(VLOOKUP(G33,Verweis!$D:$F,3,FALSE),"") -> Südamerika | I33: =B33 -> 27786.16 | K33: =D33 -> CZ | L33: =IFERROR(VLOOKUP(K33,Verweis!$D:$F,3,FALSE),"") -> Europa | M33: =E33 -> 23266.46
A34: BN | D34: DE | E34: 1186821.8 | G34: =A34 -> BN | H34: =IFERROR(VLOOKUP(G34,Verweis!$D:$F,3,FALSE),"") -> Asien | I34: =B34 -> 0 | K34: =D34 -> DE | L34: =IFERROR(VLOOKUP(K34,Verweis!$D:$F,3,FALSE),"") -> Europa | M34: =E34 -> 1186821.8
A35: BO | B35: 100972.8 | D35: DK | E35: 7741.95 | G35: =A35 -> BO | H35: =IFERROR(VLOOKUP(G35,Verweis!$D:$F,3,FALSE),"") -> Südamerika | I35: =B35 -> 100972.8 | K35: =D35 -> DK | L35: =IFERROR(VLOOKUP(K35,Verweis!$D:$F,3,FALSE),"") -> Europa | M35: =E35 -> 7741.95
A36: BR | B36: 5105540.7 | D36: DO | G36: =A36 -> BR | H36: =IFERROR(VLOOKUP(G36,Verweis!$D:$F,3,FALSE),"") -> Südamerika | I36: =B36 -> 5105540.7 | K36: =D36 -> DO | L36: =IFERROR(VLOOKUP(K36,Verweis!$D:$F,3,FALSE),"") -> Südamerika | M36: =E36 -> 0
A37: BS | B37: 71973 | D37: DZ | G37: =A37 -> BS | H37: =IFERROR(VLOOKUP(G37,Verweis!$D:$F,3,FALSE),"") -> Südamerika | I37: =B37 -> 71973 | K37: =D37 -> DZ | L37: =IFERROR(VLOOKUP(K37,Verweis!$D:$F,3,FALSE),"") -> Afrika | M37: =E37 -> 0
A38: BW | B38: 800 | D38: EE | G38: =A38 -> BW | H38: =IFERROR(VLOOKUP(G38,Verweis!$D:$F,3,FALSE),"") -> Afrika | I38: =B38 -> 800 | K38: =D38 -> EE | L38: =IFERROR(VLOOKUP(K38,Verweis!$D:$F,3,FALSE),"") -> Europa | M38: =E38 -> 0
A39: BY | D39: EG | E39: 375 | G39: =A39 -> BY | H39: =IFERROR(VLOOKUP(G39,Verweis!$D:$F,3,FALSE),"") -> Europa | I39: =B39 -> 0 | K39: =D39 -> EG | L39: =IFERROR(VLOOKUP(K39,Verweis!$D:$F,3,FALSE),"") -> Afrika | M39: =E39 -> 375
A40: CA | B40: 6840979.8 | D40: ES | E40: 1842.36 | G40: =A40 -> CA | H40: =IFERROR(VLOOKUP(G40,Verweis!$D:$F,3,FALSE),"") -> Nordamerika | I40: =B40 -> 6840979.8 | K40: =D40 -> ES | L40: =IFERROR(VLOOKUP(K40,Verweis!$D:$F,3,FALSE),"") -> Europa | M40: =E40 -> 1842.36
A41: CD | D41: FI | G41: =A41 -> CD | H41: =IFERROR(VLOOKUP(G41,Verweis!$D:$F,3,FALSE),"") -> Afrika | I41: =B41 -> 0 | K41: =D41 -> FI | L41: =IFERROR(VLOOKUP(K41,Verweis!$D:$F,3,FALSE),"") -> Europa | M41: =E41 -> 0
A42: CF | D42: FR | E42: 12804.87 | G42: =A42 -> CF | H42: =IFERROR(VLOOKUP(G42,Verweis!$D:$F,3,FALSE),"") -> Afrika | I42: =B42 -> 0 | K42: =D42 -> FR | L42: =IFERROR(VLOOKUP(K42,Verweis!$D:$F,3,FALSE),"") -> Europa | M42: =E42 -> 12804.87
...

Sheet Verweis
A1: Afghanistan | B1: AF | D1: =VLOOKUP(E1,$A:$B,2,FALSE) -> AF | E1: Afghanistan | F1: Asien
A2: Åland | B2: AX | D2: =VLOOKUP(E2,$A:$B,2,FALSE) -> AD | E2: Andorra | F2: Europa
A3: Albanien | B3: AL | D3: AE | E3: Vereinigte Arabische Emirate | F3: Asien
A4: Algerien | B4: DZ | D4: =VLOOKUP(E4,$A:$B,2,FALSE) -> AG | E4: Antigua und Barbuda | F4: Südamerika
A5: Amerikanisch-Samoa | B5: AS | D5: =VLOOKUP(E5,$A:$B,2,FALSE) -> AL | E5: Albanien | F5: Europa
A6: Andorra | B6: AD | D6: =VLOOKUP(E6,$A:$B,2,FALSE) -> AM | E6: Armenien | F6: Asien
A7: Angola | B7: AO | D7: =VLOOKUP(E7,$A:$B,2,FALSE) -> AN | E7: Niederländische Antillen | F7: Südamerika
A8: Anguilla | B8: AI | D8: =VLOOKUP(E8,$A:$B,2,FALSE) -> AO | E8: Angola | F8: Afrika
A9: Antarktis | B9: AQ | D9: =VLOOKUP(E9,$A:$B,2,FALSE) -> AO | E9: Angola | F9: Afrika
A10: Antigua und Barbuda | B10: AG | D10: =VLOOKUP(E10,$A:$B,2,FALSE) -> AR | E10: Argentinien | F10: Südamerika
A11: Argentinien | B11: AR | D11: =VLOOKUP(E11,$A:$B,2,FALSE) -> AT | E11: Österreich | F11: Europa
A12: Armenien | B12: AM | D12: =VLOOKUP(E12,$A:$B,2,FALSE) -> AU | E12: Australien | F12: Australien und Ozeanien
A13: Aruba | B13: AW | D13: =VLOOKUP(E13,$A:$B,2,FALSE) -> AW | E13: Aruba | F13: Südamerika
A14: Australien | B14: AU | D14: =VLOOKUP(E14,$A:$B,2,FALSE) -> AZ | E14: Aserbaidschan | F14: Asien
A15: Österreich | B15: AT | D15: =VLOOKUP(E15,$A:$B,2,FALSE) -> BA | E15: Bosnien und Herzegowina | F15: Europa
... A29: Bosnien und Herzegowina | B29: BA | D29: =VLOOKUP(E29,$A:$B,2,FALSE) -> BT | E29: Bhutan | F29: Asien
A30: Botswana | B30: BW | D30: BW | E30: Botsuana | F30: Afrika
A31: Bouvetinsel | B31: BV | D31: =VLOOKUP(E31,$A:$B,2,FALSE) -> BY | E31: Weißrussland | F31: Europa
A32: Brasilien | B32: BR | D32: =VLOOKUP(E32,$A:$B,2,FALSE) -> BZ | E32: Belize | F32: Südamerika
A33: Britisches Territorium im Indischen Ozean | B33: IO | D33: =VLOOKUP(E33,$A:$B,2,FALSE) -> CA | E33: Kanada | F33: Nordamerika
A34: Britische Jungferninseln | B34: VG | D34: CD | E34: Kongo, Republik | F34: Afrika
A35: Brunei | B35: BN | D35: =VLOOKUP(E35,$A:$B,2,FALSE) -> CF | E35: Zentralafrikanische Republik | F35: Afrika
A36: Bulgarien | B36: BG | D36: CG | E36: Kongo, Republik | F36: Afrika
A37: Burkina Faso | B37: BF | D37: CG | E37: Kongo, Republik | F37: Afrika
A38: Burundi | B38: BI | D38: =VLOOKUP(E38,$A:$B,2,FALSE) -> CH | E38: Schweiz | F38: Europa
A39: Kambodscha | B39: KH | D39: CI | E39: Elfenbeinküste (Côte d’Ivoire) (offiziell) | F39: Afrika
A40: Kamerun | B40: CM | D40: =VLOOKUP(E40,$A:$B,2,FALSE) -> CI | E40: Elfenbeinküste | F40: Afrika
A41: Kanada | B41: CA | D41: CL | E41: Chile (offiziell) | F41: Südamerika
A42: Kap Verde | B42: CV | D42: =VLOOKUP(E42,$A:$B,2,FALSE) -> CM | E42: Kamerun | F42: Afrika
A43: Kaimaninseln | B43: KY | D43: CN | E43: China (Volksrepublik) | F43: Asien
A44: Zentralafrikanische Republik | B44: CF | D44: CN | E44: China (Volksrepublik) | F44: Asien
A45: Tschad | B45: TD | D45: =VLOOKUP(E45,$A:$B,2,FALSE) -> CO | E45: Kolumbien | F45: Südamerika
A46: Chile | B46: CL | D46: =VLOOKUP(E46,$A:$B,2,FALSE) -> CR | E46: Costa Rica | F46: Südamerika
A47: China | B47: CN | D47: =VLOOKUP(E47,$A:$B,2,FALSE) -> CU | E47: Kuba | F47: Südamerika
A48: Weihnachtsinsel | B48: CX | D48: =VLOOKUP(E48,$A:$B,2,FALSE) -> CV | E48: Kap Verde | F48: Afrika
A49: Kokosinseln | B49: CC | D49: CW | E49: Curacao | F49: Südamerika
A50: Kolumbien | B50: CO | D50: =VLOOKUP(E50,$A:$B,2,FALSE) -> CY | E50: Zypern | F50: Asien
A51: Komoren | B51: KM | D51: CZ | E51: Tschechien | F51: Europa
A52: Cookinseln | B52: CK | D52: CZ | E52: Tschechien | F52: Europa
A53: Costa Rica | B53: CR | D53: =VLOOKUP(E53,$A:$B,2,FALSE) -> DE | E53: Deutschland | F53: Europa
...

Sheet Länderkürzel
A1: AF | B1: Afghanistan Afghanistan
A2: AX | B2: Åland Islands Åland Islands
A3: AL | B3: Albania Albania
A4: DZ | B4: Algeria Algeria
A5: AS | B5: American Samoa American Samoa
A6: AD | B6: Andorra Andorra
A7: AO | B7: Angola Angola
A8: AI | B8: Anguilla Anguilla
A9: AQ | B9: Antarctica Antarctica
A10: AG | B10: Antigua and Barbuda Antigua and Barbuda
A11: AR | B11: Argentina Argentina
A12: AM | B12: Armenia Armenia
... A249: ZW | B249: Zimbabwe Zimbabwe
